BEGIN:VCALENDAR
VERSION:2.0
PRODID:-//LPFCC - ECPv6.15.20//NONSGML v1.0//EN
CALSCALE:GREGORIAN
METHOD:PUBLISH
X-WR-CALNAME:LPFCC
X-ORIGINAL-URL:https://lpfcc.org
X-WR-CALDESC:Events for LPFCC
REFRESH-INTERVAL;VALUE=DURATION:PT1H
X-Robots-Tag:noindex
X-PUBLISHED-TTL:PT1H
BEGIN:VTIMEZONE
TZID:America/Denver
BEGIN:DAYLIGHT
TZOFFSETFROM:-0700
TZOFFSETTO:-0600
TZNAME:MDT
DTSTART:20220313T090000
END:DAYLIGHT
BEGIN:STANDARD
TZOFFSETFROM:-0600
TZOFFSETTO:-0700
TZNAME:MST
DTSTART:20221106T080000
END:STANDARD
BEGIN:DAYLIGHT
TZOFFSETFROM:-0700
TZOFFSETTO:-0600
TZNAME:MDT
DTSTART:20230312T090000
END:DAYLIGHT
BEGIN:STANDARD
TZOFFSETFROM:-0600
TZOFFSETTO:-0700
TZNAME:MST
DTSTART:20231105T080000
END:STANDARD
BEGIN:DAYLIGHT
TZOFFSETFROM:-0700
TZOFFSETTO:-0600
TZNAME:MDT
DTSTART:20240310T090000
END:DAYLIGHT
BEGIN:STANDARD
TZOFFSETFROM:-0600
TZOFFSETTO:-0700
TZNAME:MST
DTSTART:20241103T080000
END:STANDARD
END:VTIMEZONE
BEGIN:VEVENT
DTSTART;TZID=America/Denver:20230829T040000
DTEND;TZID=America/Denver:20230829T060000
DTSTAMP:20260421T044652
CREATED:20230405T231537Z
LAST-MODIFIED:20230405T232737Z
UID:10000096-1693281600-1693288800@lpfcc.org
SUMMARY:Peace Garden	- Workday
DESCRIPTION:Join us for a Workday in the Peace Garden where we will be tending to the Garden needs such as watering\, weeding\, harvesting\, etc.  This event will be weather permitting and will likely not take place in the event of severe weather.
URL:https://lpfcc.org/event/peace-garden-workday/2023-08-29/
LOCATION:Peace Garden\, 495 Florida Rd.\, Durango\, CO\, 81301\, United States
CATEGORIES:Together We Grow
ORGANIZER;CN="Amber Turley":MAILTO:amber@lpfcc.org
END:VEVENT
BEGIN:VEVENT
DTSTART;TZID=America/Denver:20230822T040000
DTEND;TZID=America/Denver:20230822T060000
DTSTAMP:20260421T044652
CREATED:20230405T231537Z
LAST-MODIFIED:20230405T232737Z
UID:10000095-1692676800-1692684000@lpfcc.org
SUMMARY:Peace Garden	- Workday
DESCRIPTION:Join us for a Workday in the Peace Garden where we will be tending to the Garden needs such as watering\, weeding\, harvesting\, etc.  This event will be weather permitting and will likely not take place in the event of severe weather.
URL:https://lpfcc.org/event/peace-garden-workday/2023-08-22/
LOCATION:Peace Garden\, 495 Florida Rd.\, Durango\, CO\, 81301\, United States
CATEGORIES:Together We Grow
ORGANIZER;CN="Amber Turley":MAILTO:amber@lpfcc.org
END:VEVENT
BEGIN:VEVENT
DTSTART;TZID=America/Denver:20230815T040000
DTEND;TZID=America/Denver:20230815T060000
DTSTAMP:20260421T044652
CREATED:20230405T231537Z
LAST-MODIFIED:20230405T232737Z
UID:10000094-1692072000-1692079200@lpfcc.org
SUMMARY:Peace Garden	- Workday
DESCRIPTION:Join us for a Workday in the Peace Garden where we will be tending to the Garden needs such as watering\, weeding\, harvesting\, etc.  This event will be weather permitting and will likely not take place in the event of severe weather.
URL:https://lpfcc.org/event/peace-garden-workday/2023-08-15/
LOCATION:Peace Garden\, 495 Florida Rd.\, Durango\, CO\, 81301\, United States
CATEGORIES:Together We Grow
ORGANIZER;CN="Amber Turley":MAILTO:amber@lpfcc.org
END:VEVENT
BEGIN:VEVENT
DTSTART;TZID=America/Denver:20230808T040000
DTEND;TZID=America/Denver:20230808T060000
DTSTAMP:20260421T044652
CREATED:20230405T232332Z
LAST-MODIFIED:20230405T232332Z
UID:10000101-1691467200-1691474400@lpfcc.org
SUMMARY:Peace Garden	- Workday & Contact Paper Insects
DESCRIPTION:Join us for a Workday & Contact Paper Insects in the Peace Garden.  This event will be weather permitting and will likely not take place in the event of severe weather
URL:https://lpfcc.org/event/peace-garden-workday-contact-paper-insects/
LOCATION:Peace Garden\, 495 Florida Rd.\, Durango\, CO\, 81301\, United States
CATEGORIES:Together We Grow
ORGANIZER;CN="Amber Turley":MAILTO:amber@lpfcc.org
END:VEVENT
BEGIN:VEVENT
DTSTART;TZID=America/Denver:20230801T040000
DTEND;TZID=America/Denver:20230801T060000
DTSTAMP:20260421T044652
CREATED:20230405T231537Z
LAST-MODIFIED:20230405T232737Z
UID:10000093-1690862400-1690869600@lpfcc.org
SUMMARY:Peace Garden	- Workday
DESCRIPTION:Join us for a Workday in the Peace Garden where we will be tending to the Garden needs such as watering\, weeding\, harvesting\, etc.  This event will be weather permitting and will likely not take place in the event of severe weather.
URL:https://lpfcc.org/event/peace-garden-workday/2023-08-01/
LOCATION:Peace Garden\, 495 Florida Rd.\, Durango\, CO\, 81301\, United States
CATEGORIES:Together We Grow
ORGANIZER;CN="Amber Turley":MAILTO:amber@lpfcc.org
END:VEVENT
BEGIN:VEVENT
DTSTART;TZID=America/Denver:20230725T040000
DTEND;TZID=America/Denver:20230725T060000
DTSTAMP:20260421T044652
CREATED:20230405T231537Z
LAST-MODIFIED:20230405T232737Z
UID:10000092-1690257600-1690264800@lpfcc.org
SUMMARY:Peace Garden	- Workday
DESCRIPTION:Join us for a Workday in the Peace Garden where we will be tending to the Garden needs such as watering\, weeding\, harvesting\, etc.  This event will be weather permitting and will likely not take place in the event of severe weather.
URL:https://lpfcc.org/event/peace-garden-workday/2023-07-25/
LOCATION:Peace Garden\, 495 Florida Rd.\, Durango\, CO\, 81301\, United States
CATEGORIES:Together We Grow
ORGANIZER;CN="Amber Turley":MAILTO:amber@lpfcc.org
END:VEVENT
BEGIN:VEVENT
DTSTART;TZID=America/Denver:20230718T040000
DTEND;TZID=America/Denver:20230718T060000
DTSTAMP:20260421T044652
CREATED:20230405T232217Z
LAST-MODIFIED:20230405T232217Z
UID:10000100-1689652800-1689660000@lpfcc.org
SUMMARY:Peace Garden - Animal Masks/Crowns
DESCRIPTION:Join us for Animal Masks/Crowns in the Peace Garden.  This event will be weather permitting and will likely not take place in the event of severe weather.
URL:https://lpfcc.org/event/peace-garden-animal-masks-crowns/
LOCATION:Peace Garden\, 495 Florida Rd.\, Durango\, CO\, 81301\, United States
CATEGORIES:Together We Grow
ORGANIZER;CN="Amber Turley":MAILTO:amber@lpfcc.org
END:VEVENT
BEGIN:VEVENT
DTSTART;TZID=America/Denver:20230627T040000
DTEND;TZID=America/Denver:20230627T060000
DTSTAMP:20260421T044652
CREATED:20230405T232104Z
LAST-MODIFIED:20230405T232104Z
UID:10000099-1687838400-1687845600@lpfcc.org
SUMMARY:Peace Garden	- Workday & Story Quilt Watercolor/Pencils
DESCRIPTION:Join us for a Workday & Story Quilt Watercolor/Pencils.  This event will be weather permitting and will likely not take place in the event of severe weather.
URL:https://lpfcc.org/event/peace-garden-workday-story-quilt-watercolor-pencils/
LOCATION:Peace Garden\, 495 Florida Rd.\, Durango\, CO\, 81301\, United States
CATEGORIES:Together We Grow
ORGANIZER;CN="Amber Turley":MAILTO:amber@lpfcc.org
END:VEVENT
BEGIN:VEVENT
DTSTART;TZID=America/Denver:20230620T020000
DTEND;TZID=America/Denver:20230620T110000
DTSTAMP:20260421T044652
CREATED:20230405T231915Z
LAST-MODIFIED:20230405T231915Z
UID:10000098-1687226400-1687258800@lpfcc.org
SUMMARY:Peace Garden	- Workday & Poetry Writing/Spin Art
DESCRIPTION:Join us for a Workday & Poetry Writing/Spin Art.  This event will be weather permitting and will likely not take place in the event of severe weather.
URL:https://lpfcc.org/event/peace-garden-workday-poetry-writing-spin-art/
LOCATION:Peace Garden\, 495 Florida Rd.\, Durango\, CO\, 81301\, United States
CATEGORIES:Fatherhood
ORGANIZER;CN="Amber Turley":MAILTO:amber@lpfcc.org
END:VEVENT
BEGIN:VEVENT
DTSTART;TZID=America/Denver:20230613T040000
DTEND;TZID=America/Denver:20230613T060000
DTSTAMP:20260421T044652
CREATED:20230405T231537Z
LAST-MODIFIED:20230405T232737Z
UID:10000091-1686628800-1686636000@lpfcc.org
SUMMARY:Peace Garden	- Workday
DESCRIPTION:Join us for a Workday in the Peace Garden where we will be tending to the Garden needs such as watering\, weeding\, harvesting\, etc.  This event will be weather permitting and will likely not take place in the event of severe weather.
URL:https://lpfcc.org/event/peace-garden-workday/2023-06-13/
LOCATION:Peace Garden\, 495 Florida Rd.\, Durango\, CO\, 81301\, United States
CATEGORIES:Together We Grow
ORGANIZER;CN="Amber Turley":MAILTO:amber@lpfcc.org
END:VEVENT
BEGIN:VEVENT
DTSTART;TZID=America/Denver:20230606T040000
DTEND;TZID=America/Denver:20230606T060000
DTSTAMP:20260421T044652
CREATED:20230405T231814Z
LAST-MODIFIED:20230405T231814Z
UID:10000097-1686024000-1686031200@lpfcc.org
SUMMARY:Peace Garden	- Nature Writing & Fruit/Veg Prints
DESCRIPTION:Join us for a Nature Writing & Fruit/Veg Prints in the Peace Garden.  This event will be weather permitting and will likely not take place in the event of severe weather.
URL:https://lpfcc.org/event/peace-garden-nature-writing-fruit-veg-prints/
LOCATION:Peace Garden\, 495 Florida Rd.\, Durango\, CO\, 81301\, United States
CATEGORIES:Together We Grow
ORGANIZER;CN="Amber Turley":MAILTO:amber@lpfcc.org
END:VEVENT
BEGIN:VEVENT
DTSTART;TZID=America/Denver:20230530T040000
DTEND;TZID=America/Denver:20230530T060000
DTSTAMP:20260421T044652
CREATED:20230405T231537Z
LAST-MODIFIED:20230405T232737Z
UID:10000090-1685419200-1685426400@lpfcc.org
SUMMARY:Peace Garden	- Workday
DESCRIPTION:Join us for a Workday in the Peace Garden where we will be tending to the Garden needs such as watering\, weeding\, harvesting\, etc.  This event will be weather permitting and will likely not take place in the event of severe weather.
URL:https://lpfcc.org/event/peace-garden-workday/2023-05-30/
LOCATION:Peace Garden\, 495 Florida Rd.\, Durango\, CO\, 81301\, United States
CATEGORIES:Together We Grow
ORGANIZER;CN="Amber Turley":MAILTO:amber@lpfcc.org
END:VEVENT
BEGIN:VEVENT
DTSTART;TZID=America/Denver:20230523T040000
DTEND;TZID=America/Denver:20230523T060000
DTSTAMP:20260421T044652
CREATED:20230405T231537Z
LAST-MODIFIED:20230405T232737Z
UID:10000089-1684814400-1684821600@lpfcc.org
SUMMARY:Peace Garden	- Workday
DESCRIPTION:Join us for a Workday in the Peace Garden where we will be tending to the Garden needs such as watering\, weeding\, harvesting\, etc.  This event will be weather permitting and will likely not take place in the event of severe weather.
URL:https://lpfcc.org/event/peace-garden-workday/2023-05-23/
LOCATION:Peace Garden\, 495 Florida Rd.\, Durango\, CO\, 81301\, United States
CATEGORIES:Together We Grow
ORGANIZER;CN="Amber Turley":MAILTO:amber@lpfcc.org
END:VEVENT
BEGIN:VEVENT
DTSTART;TZID=America/Denver:20230516T040000
DTEND;TZID=America/Denver:20230516T060000
DTSTAMP:20260421T044652
CREATED:20230405T231537Z
LAST-MODIFIED:20230405T232737Z
UID:10000088-1684209600-1684216800@lpfcc.org
SUMMARY:Peace Garden	- Workday
DESCRIPTION:Join us for a Workday in the Peace Garden where we will be tending to the Garden needs such as watering\, weeding\, harvesting\, etc.  This event will be weather permitting and will likely not take place in the event of severe weather.
URL:https://lpfcc.org/event/peace-garden-workday/2023-05-16/
LOCATION:Peace Garden\, 495 Florida Rd.\, Durango\, CO\, 81301\, United States
CATEGORIES:Together We Grow
ORGANIZER;CN="Amber Turley":MAILTO:amber@lpfcc.org
END:VEVENT
BEGIN:VEVENT
DTSTART;TZID=America/Denver:20230509T040000
DTEND;TZID=America/Denver:20230509T060000
DTSTAMP:20260421T044652
CREATED:20230405T231537Z
LAST-MODIFIED:20230405T232737Z
UID:10000087-1683604800-1683612000@lpfcc.org
SUMMARY:Peace Garden	- Workday
DESCRIPTION:Join us for a Workday in the Peace Garden where we will be tending to the Garden needs such as watering\, weeding\, harvesting\, etc.  This event will be weather permitting and will likely not take place in the event of severe weather.
URL:https://lpfcc.org/event/peace-garden-workday/2023-05-09/
LOCATION:Peace Garden\, 495 Florida Rd.\, Durango\, CO\, 81301\, United States
CATEGORIES:Together We Grow
ORGANIZER;CN="Amber Turley":MAILTO:amber@lpfcc.org
END:VEVENT
BEGIN:VEVENT
DTSTART;TZID=America/Denver:20230502T040000
DTEND;TZID=America/Denver:20230502T060000
DTSTAMP:20260421T044652
CREATED:20230405T231537Z
LAST-MODIFIED:20230405T232737Z
UID:10000086-1683000000-1683007200@lpfcc.org
SUMMARY:Peace Garden	- Workday
DESCRIPTION:Join us for a Workday in the Peace Garden where we will be tending to the Garden needs such as watering\, weeding\, harvesting\, etc.  This event will be weather permitting and will likely not take place in the event of severe weather.
URL:https://lpfcc.org/event/peace-garden-workday/2023-05-02/
LOCATION:Peace Garden\, 495 Florida Rd.\, Durango\, CO\, 81301\, United States
CATEGORIES:Together We Grow
ORGANIZER;CN="Amber Turley":MAILTO:amber@lpfcc.org
END:VEVENT
END:VCALENDAR