BEGIN:VCALENDAR
VERSION:2.0
PRODID:-//LPFCC - ECPv6.15.20//NONSGML v1.0//EN
CALSCALE:GREGORIAN
METHOD:PUBLISH
X-ORIGINAL-URL:https://lpfcc.org
X-WR-CALDESC:Events for LPFCC
REFRESH-INTERVAL;VALUE=DURATION:PT1H
X-Robots-Tag:noindex
X-PUBLISHED-TTL:PT1H
BEGIN:VTIMEZONE
TZID:America/Denver
BEGIN:DAYLIGHT
TZOFFSETFROM:-0700
TZOFFSETTO:-0600
TZNAME:MDT
DTSTART:20200308T090000
END:DAYLIGHT
BEGIN:STANDARD
TZOFFSETFROM:-0600
TZOFFSETTO:-0700
TZNAME:MST
DTSTART:20201101T080000
END:STANDARD
BEGIN:DAYLIGHT
TZOFFSETFROM:-0700
TZOFFSETTO:-0600
TZNAME:MDT
DTSTART:20210314T090000
END:DAYLIGHT
BEGIN:STANDARD
TZOFFSETFROM:-0600
TZOFFSETTO:-0700
TZNAME:MST
DTSTART:20211107T080000
END:STANDARD
BEGIN:DAYLIGHT
TZOFFSETFROM:-0700
TZOFFSETTO:-0600
TZNAME:MDT
DTSTART:20220313T090000
END:DAYLIGHT
BEGIN:STANDARD
TZOFFSETFROM:-0600
TZOFFSETTO:-0700
TZNAME:MST
DTSTART:20221106T080000
END:STANDARD
BEGIN:DAYLIGHT
TZOFFSETFROM:-0700
TZOFFSETTO:-0600
TZNAME:MDT
DTSTART:20230312T090000
END:DAYLIGHT
BEGIN:STANDARD
TZOFFSETFROM:-0600
TZOFFSETTO:-0700
TZNAME:MST
DTSTART:20231105T080000
END:STANDARD
END:VTIMEZONE
BEGIN:VEVENT
DTSTART;VALUE=DATE:20220619
DTEND;VALUE=DATE:20220621
DTSTAMP:20260419T123059
CREATED:20220606T230608Z
LAST-MODIFIED:20220606T230918Z
UID:10000032-1655661600-1655747999@lpfcc.org
SUMMARY:LPFCC closed in observance of Juneteenth
DESCRIPTION:The Family Center will be close this day in observation of Juneteenth.
URL:https://lpfcc.org/event/lpfcc-closed-in-observance-of-juneteenth/
LOCATION:The La Plata Family Center\, 495 rd.\, Durango\, CO\, 81301\, United States
CATEGORIES:Fatherhood,Together We Grow,Yoga
ATTACH;FMTTYPE=image/png:https://lpfcc.org/wp-content/uploads/2022/06/Untitled-design-2.png
ORGANIZER;CN="Michael Riggs":MAILTO:michael@lpfcc.org
END:VEVENT
BEGIN:VEVENT
DTSTART;TZID=America/Denver:20220327T080000
DTEND;TZID=America/Denver:20220327T093000
DTSTAMP:20260419T123059
CREATED:20220323T214743Z
LAST-MODIFIED:20220323T214743Z
UID:10000029-1648368000-1648373400@lpfcc.org
SUMMARY:Fatherhood Social Connection
DESCRIPTION:Fatherhood Social Connection \n  \nA time for dads to meet up and connect while the kids play at the park. \n  \nSunday March 27 at 2pm at
URL:https://lpfcc.org/event/fatherhood-social-connection/
LOCATION:Santa Rita Park\, 2700 Main Ave\, Durango\, CO\, 81301\, United States
CATEGORIES:Fatherhood
ORGANIZER;CN="Michael Riggs":MAILTO:michael@lpfcc.org
END:VEVENT
BEGIN:VEVENT
DTSTART;TZID=America/Denver:20211028T120000
DTEND;TZID=America/Denver:20211028T120000
DTSTAMP:20260419T123059
CREATED:20211008T033626Z
LAST-MODIFIED:20211021T015428Z
UID:10000017-1635422400-1635422400@lpfcc.org
SUMMARY:Nurturing Fathers Workshop
DESCRIPTION:  \nNurturing Fathers is a Free workshop offered through the Colorado Fatherhood Program that can help with parenting skills\, healthy family relationships\, and child development. This program is intended to help you and your family thrive. Contact Fatherhood Advocate to Enroll! \n\nEvidence based 13 week interactive class  starting October 28th via zoom.\nThis workshop focuses on Roots of Fathering\, Reducing Stress\, Self-Nurturing Skills\, and so much more.\nIn class make up appointments can be scheduled with Michael the fatherhood advocate.\n\n  \nContact Michael  for more information: \n\nMichael@lpfcc.org\n970-385-4747\nhttps://lpfcc.org/fatherhood/
URL:https://lpfcc.org/event/nurturing-fathers-work-shop/
LOCATION:Virtual Event – Zoom\, 495 Florida road\, Durango\, CO\, 81301
CATEGORIES:Fatherhood
ATTACH;FMTTYPE=image/png:https://lpfcc.org/wp-content/uploads/2021/10/CFP-EVENT-Template.png
ORGANIZER;CN="Michael Riggs":MAILTO:michael@lpfcc.org
END:VEVENT
END:VCALENDAR