BEGIN:VCALENDAR
VERSION:2.0
PRODID:-//LPFCC - ECPv6.15.20//NONSGML v1.0//EN
CALSCALE:GREGORIAN
METHOD:PUBLISH
X-WR-CALNAME:LPFCC
X-ORIGINAL-URL:https://lpfcc.org
X-WR-CALDESC:Events for LPFCC
REFRESH-INTERVAL;VALUE=DURATION:PT1H
X-Robots-Tag:noindex
X-PUBLISHED-TTL:PT1H
BEGIN:VTIMEZONE
TZID:America/Denver
BEGIN:DAYLIGHT
TZOFFSETFROM:-0700
TZOFFSETTO:-0600
TZNAME:MDT
DTSTART:20200308T090000
END:DAYLIGHT
BEGIN:STANDARD
TZOFFSETFROM:-0600
TZOFFSETTO:-0700
TZNAME:MST
DTSTART:20201101T080000
END:STANDARD
BEGIN:DAYLIGHT
TZOFFSETFROM:-0700
TZOFFSETTO:-0600
TZNAME:MDT
DTSTART:20210314T090000
END:DAYLIGHT
BEGIN:STANDARD
TZOFFSETFROM:-0600
TZOFFSETTO:-0700
TZNAME:MST
DTSTART:20211107T080000
END:STANDARD
BEGIN:DAYLIGHT
TZOFFSETFROM:-0700
TZOFFSETTO:-0600
TZNAME:MDT
DTSTART:20220313T090000
END:DAYLIGHT
BEGIN:STANDARD
TZOFFSETFROM:-0600
TZOFFSETTO:-0700
TZNAME:MST
DTSTART:20221106T080000
END:STANDARD
END:VTIMEZONE
BEGIN:VEVENT
DTSTART;TZID=America/Denver:20211214T090000
DTEND;TZID=America/Denver:20211214T101500
DTSTAMP:20260419T133952
CREATED:20211203T225647Z
LAST-MODIFIED:20211204T002400Z
UID:10000020-1639472400-1639476900@lpfcc.org
SUMMARY:Honoring Grief
DESCRIPTION:WEEK ONE Honoring Grief\nTuesday December 14\nThis session is designed to uplift you with understanding\,\ncomfort\, and hope. Together we will learn to cultivate a\ndeep love that will allow us to bring joy back into our lives.\nWe will use breathwork\, movement and music.\nWe encourage you to open your heart and reach out to\nother’s in a shared group setting. This will give you a\nchance to connect with other’s and heal through our own\npersonal stories. \n  \nWELCOME to\nTogether we Grow  \nTUESDAYS at SUMMIT CHURCH\n4pm-5:15pm\nIn a caring\, nurturing environment these wellness classes are\ndesigned to help you thrive in body\, mind and spirit.\nAll sessions are taught by Mary Katherine and Judy and we will\nguide you on how to reach your health and wellness goals.\nEach class will include Breathwork\, Movement\, and\nsmall group guidance to work through shared challenges.\nALL are WELCOME Classes are suitable for ALL AGES\nAccessible YOGA and MOVEMENT for ALL\nEach class you attend you can enter a giveaway for a chance to\nwin a great wellness gift.\nGifts include books\, yoga gear\, and self care items.\nTogether We Grow in spreading\nHealth\, and Happiness in the world
URL:https://lpfcc.org/event/honoring-grief/
LOCATION:Summit Church\, Address: 2917 Aspen Dr.\, Durango\, CO\, 81301\, United States
CATEGORIES:Together We Grow,Yoga
ATTACH;FMTTYPE=image/png:https://lpfcc.org/wp-content/uploads/2021/12/1920-x-1080-pixels-honor-grief.png
ORGANIZER;CN="Judy Bierma":MAILTO:judyoga@ymail.com
END:VEVENT
END:VCALENDAR