BEGIN:VCALENDAR
VERSION:2.0
PRODID:-//LPFCC - ECPv6.15.20//NONSGML v1.0//EN
CALSCALE:GREGORIAN
METHOD:PUBLISH
X-WR-CALNAME:LPFCC
X-ORIGINAL-URL:https://lpfcc.org
X-WR-CALDESC:Events for LPFCC
REFRESH-INTERVAL;VALUE=DURATION:PT1H
X-Robots-Tag:noindex
X-PUBLISHED-TTL:PT1H
BEGIN:VTIMEZONE
TZID:America/Denver
BEGIN:DAYLIGHT
TZOFFSETFROM:-0700
TZOFFSETTO:-0600
TZNAME:MDT
DTSTART:20240310T090000
END:DAYLIGHT
BEGIN:STANDARD
TZOFFSETFROM:-0600
TZOFFSETTO:-0700
TZNAME:MST
DTSTART:20241103T080000
END:STANDARD
BEGIN:DAYLIGHT
TZOFFSETFROM:-0700
TZOFFSETTO:-0600
TZNAME:MDT
DTSTART:20250309T090000
END:DAYLIGHT
BEGIN:STANDARD
TZOFFSETFROM:-0600
TZOFFSETTO:-0700
TZNAME:MST
DTSTART:20251102T080000
END:STANDARD
BEGIN:DAYLIGHT
TZOFFSETFROM:-0700
TZOFFSETTO:-0600
TZNAME:MDT
DTSTART:20260308T090000
END:DAYLIGHT
BEGIN:STANDARD
TZOFFSETFROM:-0600
TZOFFSETTO:-0700
TZNAME:MST
DTSTART:20261101T080000
END:STANDARD
END:VTIMEZONE
BEGIN:VEVENT
DTSTART;TZID=America/Denver:20250913T110000
DTEND;TZID=America/Denver:20250913T143000
DTSTAMP:20260421T093551
CREATED:20250812T193943Z
LAST-MODIFIED:20250812T194208Z
UID:10000316-1757761200-1757773800@lpfcc.org
SUMMARY:Farm Dinner
DESCRIPTION:Sponsorship package – Harvest Table Dinner \nFarm Dinner 2025 \nEnjoy a magical evening at the Pond Farm (2997 County Road 215) with a family-style\, multi-course dinner prepared by Chef Jeremy Storm of Sage Fresh Eats\, our 2025 Harvest Sponsor. Featuring locally grown produce and meats\, the menu is thoughtfully curated around the season’s freshest ingredients – harvested right on the farm. We’ll kick off with a cocktail reception\, followed by an unforgettable dinner just before sunset in a peaceful\, picturesque setting. Live music by the local Afrobeatniks ads rhythm to the night. \n\nThere are different ways to contribute to this wonderful evening\n\nWe are still looking for sponsorships for the farm dinner\, these opportunities come with recognition\, seats at the table and goodies as a thank you.\nIf you are not able to make the event but would like to support our fundraiser\, we are still looking for silent auction items for the fundraiser\nBuy a ticket and join us at the table for a tasy\, fun and magical evening
URL:https://lpfcc.org/event/farm-dinner/
LOCATION:Pond Farm\, 2997 CR 215\, Durango\, CO\, 81301
END:VEVENT
END:VCALENDAR