BEGIN:VCALENDAR
VERSION:2.0
PRODID:-//LPFCC - ECPv6.15.20//NONSGML v1.0//EN
CALSCALE:GREGORIAN
METHOD:PUBLISH
X-ORIGINAL-URL:https://lpfcc.org
X-WR-CALDESC:Events for LPFCC
REFRESH-INTERVAL;VALUE=DURATION:PT1H
X-Robots-Tag:noindex
X-PUBLISHED-TTL:PT1H
BEGIN:VTIMEZONE
TZID:America/Denver
BEGIN:DAYLIGHT
TZOFFSETFROM:-0700
TZOFFSETTO:-0600
TZNAME:MDT
DTSTART:20230312T090000
END:DAYLIGHT
BEGIN:STANDARD
TZOFFSETFROM:-0600
TZOFFSETTO:-0700
TZNAME:MST
DTSTART:20231105T080000
END:STANDARD
BEGIN:DAYLIGHT
TZOFFSETFROM:-0700
TZOFFSETTO:-0600
TZNAME:MDT
DTSTART:20240310T090000
END:DAYLIGHT
BEGIN:STANDARD
TZOFFSETFROM:-0600
TZOFFSETTO:-0700
TZNAME:MST
DTSTART:20241103T080000
END:STANDARD
BEGIN:DAYLIGHT
TZOFFSETFROM:-0700
TZOFFSETTO:-0600
TZNAME:MDT
DTSTART:20250309T090000
END:DAYLIGHT
BEGIN:STANDARD
TZOFFSETFROM:-0600
TZOFFSETTO:-0700
TZNAME:MST
DTSTART:20251102T080000
END:STANDARD
END:VTIMEZONE
BEGIN:VEVENT
DTSTART;TZID=America/Denver:20240601T010000
DTEND;TZID=America/Denver:20240601T060000
DTSTAMP:20260421T074328
CREATED:20240416T193310Z
LAST-MODIFIED:20240416T193310Z
UID:10000155-1717203600-1717221600@lpfcc.org
SUMMARY:Pond Farm Workday
DESCRIPTION:Pond Farm Workday \n 
URL:https://lpfcc.org/event/pond-farm-workday-2/2024-06-01/
LOCATION:Pond Farm\, 2997 CR 215\, Durango\, CO\, 81301
ORGANIZER;CN="Amber Turley":MAILTO:amber@lpfcc.org
END:VEVENT
BEGIN:VEVENT
DTSTART;TZID=America/Denver:20240605T113000
DTEND;TZID=America/Denver:20240605T123000
DTSTAMP:20260421T074328
CREATED:20240416T191938Z
LAST-MODIFIED:20240416T191938Z
UID:10000145-1717587000-1717590600@lpfcc.org
SUMMARY:Circle of Fathers
DESCRIPTION:Summer 2024 Schedule\n1st Wednesday of every month\nMeetings at La Plata Family Center \n495 Florida Rd
URL:https://lpfcc.org/event/circle-of-fathers/2024-06-05/
LOCATION:The La Plata Family Center\, 495 rd.\, Durango\, CO\, 81301\, United States
ORGANIZER;CN="Amber Turley":MAILTO:amber@lpfcc.org
END:VEVENT
BEGIN:VEVENT
DTSTART;TZID=America/Denver:20240615T010000
DTEND;TZID=America/Denver:20240615T060000
DTSTAMP:20260421T074328
CREATED:20240416T193310Z
LAST-MODIFIED:20240416T193310Z
UID:10000156-1718413200-1718431200@lpfcc.org
SUMMARY:Pond Farm Workday
DESCRIPTION:Pond Farm Workday \n 
URL:https://lpfcc.org/event/pond-farm-workday-2/2024-06-15/
LOCATION:Pond Farm\, 2997 CR 215\, Durango\, CO\, 81301
ORGANIZER;CN="Amber Turley":MAILTO:amber@lpfcc.org
END:VEVENT
BEGIN:VEVENT
DTSTART;TZID=America/Denver:20240628T103000
DTEND;TZID=America/Denver:20240628T123000
DTSTAMP:20260421T074328
CREATED:20240603T235349Z
LAST-MODIFIED:20240603T235349Z
UID:10000251-1719570600-1719577800@lpfcc.org
SUMMARY:Free Workshop - How to Deal with Conflict
DESCRIPTION:  \nHow to find a compassionate approach to dealing with conflict: \nPresented by\nDr. Mary Katherine\, Psychologist & Judy Bierma\, Yoga Health & Wellness Facilitator\nFriday June 28\, 2024\nTime: 4:30-6:30pm \nComplimentary dinner & Childcare will be provided. \nIn this FREE teaching you will explore\ncommon difficulties with\n● Friends\, Coworkers\,\n● Family; Children\, Parents or Partners\n● School\, Church\,\n● Navigating roadway conflicts\nWe will offer helpful strategies to reframe your thoughts and spoken words.\nActivities will include ways to improve and refine your conflict skills and a capacity for better listening.\nWe will conclude with a short meditation and breath exercise.\nOur hope is that this training provides you with guidance in understanding the commonality we have with those that we oppose.\nReserve ahead\nPlease Join us by signing up at: 970-385-4747
URL:https://lpfcc.org/event/free-workshop-how-to-deal-with-conflict/
LOCATION:The La Plata Family Center\, 495 rd.\, Durango\, CO\, 81301\, United States
CATEGORIES:Yoga
ORGANIZER;CN="Amber Turley":MAILTO:amber@lpfcc.org
END:VEVENT
BEGIN:VEVENT
DTSTART;TZID=America/Denver:20240629T010000
DTEND;TZID=America/Denver:20240629T060000
DTSTAMP:20260421T074328
CREATED:20240416T193310Z
LAST-MODIFIED:20240416T193310Z
UID:10000157-1719622800-1719640800@lpfcc.org
SUMMARY:Pond Farm Workday
DESCRIPTION:Pond Farm Workday \n 
URL:https://lpfcc.org/event/pond-farm-workday-2/2024-06-29/
LOCATION:Pond Farm\, 2997 CR 215\, Durango\, CO\, 81301
ORGANIZER;CN="Amber Turley":MAILTO:amber@lpfcc.org
END:VEVENT
END:VCALENDAR