BEGIN:VCALENDAR
VERSION:2.0
PRODID:-//LPFCC - ECPv6.15.20//NONSGML v1.0//EN
CALSCALE:GREGORIAN
METHOD:PUBLISH
X-ORIGINAL-URL:https://lpfcc.org
X-WR-CALDESC:Events for LPFCC
REFRESH-INTERVAL;VALUE=DURATION:PT1H
X-Robots-Tag:noindex
X-PUBLISHED-TTL:PT1H
BEGIN:VTIMEZONE
TZID:America/Denver
BEGIN:DAYLIGHT
TZOFFSETFROM:-0700
TZOFFSETTO:-0600
TZNAME:MDT
DTSTART:20280312T090000
END:DAYLIGHT
BEGIN:STANDARD
TZOFFSETFROM:-0600
TZOFFSETTO:-0700
TZNAME:MST
DTSTART:20281105T080000
END:STANDARD
BEGIN:DAYLIGHT
TZOFFSETFROM:-0700
TZOFFSETTO:-0600
TZNAME:MDT
DTSTART:20290311T090000
END:DAYLIGHT
BEGIN:STANDARD
TZOFFSETFROM:-0600
TZOFFSETTO:-0700
TZNAME:MST
DTSTART:20291104T080000
END:STANDARD
BEGIN:DAYLIGHT
TZOFFSETFROM:-0700
TZOFFSETTO:-0600
TZNAME:MDT
DTSTART:20300310T090000
END:DAYLIGHT
BEGIN:STANDARD
TZOFFSETFROM:-0600
TZOFFSETTO:-0700
TZNAME:MST
DTSTART:20301103T080000
END:STANDARD
BEGIN:DAYLIGHT
TZOFFSETFROM:-0700
TZOFFSETTO:-0600
TZNAME:MDT
DTSTART:20310309T090000
END:DAYLIGHT
BEGIN:STANDARD
TZOFFSETFROM:-0600
TZOFFSETTO:-0700
TZNAME:MST
DTSTART:20311102T080000
END:STANDARD
BEGIN:DAYLIGHT
TZOFFSETFROM:-0700
TZOFFSETTO:-0600
TZNAME:MDT
DTSTART:20320314T090000
END:DAYLIGHT
BEGIN:STANDARD
TZOFFSETFROM:-0600
TZOFFSETTO:-0700
TZNAME:MST
DTSTART:20321107T080000
END:STANDARD
END:VTIMEZONE
BEGIN:VEVENT
DTSTART;TZID=America/Denver:20290207T173000
DTEND;TZID=America/Denver:20290208T193000
DTSTAMP:20260419T125951
CREATED:20260401T014753Z
LAST-MODIFIED:20260331T204448Z
UID:10000426-1865179800-1865273400@lpfcc.org
SUMMARY:Circle of Fathers
DESCRIPTION:At Circle of Fathers\, we create a judgement-free space where dads and male caregivers connect\, share\, and grow. Join us as we talk about the hard stuff\, celebrate the wins and support each other through real conversations and shared experiences in our community. Dinner provided. Drop-ins welcome.
URL:https://lpfcc.org/event/circle-of-fathers-3/2029-02-07/
LOCATION:Downstairs of Christ the King Lutheran Church\, 495 Florida Rd.\, Durango\, CO\, 81301\, United States
CATEGORIES:Fatherhood
ORGANIZER;CN="Anne Strainis":MAILTO:anne@lpfcc.org
END:VEVENT
BEGIN:VEVENT
DTSTART;TZID=America/Denver:20290307T173000
DTEND;TZID=America/Denver:20290308T193000
DTSTAMP:20260419T125951
CREATED:20260401T014753Z
LAST-MODIFIED:20260331T204448Z
UID:10000427-1867599000-1867692600@lpfcc.org
SUMMARY:Circle of Fathers
DESCRIPTION:At Circle of Fathers\, we create a judgement-free space where dads and male caregivers connect\, share\, and grow. Join us as we talk about the hard stuff\, celebrate the wins and support each other through real conversations and shared experiences in our community. Dinner provided. Drop-ins welcome.
URL:https://lpfcc.org/event/circle-of-fathers-3/2029-03-07/
LOCATION:Downstairs of Christ the King Lutheran Church\, 495 Florida Rd.\, Durango\, CO\, 81301\, United States
CATEGORIES:Fatherhood
ORGANIZER;CN="Anne Strainis":MAILTO:anne@lpfcc.org
END:VEVENT
BEGIN:VEVENT
DTSTART;TZID=America/Denver:20290404T173000
DTEND;TZID=America/Denver:20290405T193000
DTSTAMP:20260419T125951
CREATED:20260401T014753Z
LAST-MODIFIED:20260331T204448Z
UID:10000428-1870018200-1870111800@lpfcc.org
SUMMARY:Circle of Fathers
DESCRIPTION:At Circle of Fathers\, we create a judgement-free space where dads and male caregivers connect\, share\, and grow. Join us as we talk about the hard stuff\, celebrate the wins and support each other through real conversations and shared experiences in our community. Dinner provided. Drop-ins welcome.
URL:https://lpfcc.org/event/circle-of-fathers-3/2029-04-04/
LOCATION:Downstairs of Christ the King Lutheran Church\, 495 Florida Rd.\, Durango\, CO\, 81301\, United States
CATEGORIES:Fatherhood
ORGANIZER;CN="Anne Strainis":MAILTO:anne@lpfcc.org
END:VEVENT
BEGIN:VEVENT
DTSTART;TZID=America/Denver:20290502T173000
DTEND;TZID=America/Denver:20290503T193000
DTSTAMP:20260419T125951
CREATED:20260401T014753Z
LAST-MODIFIED:20260331T204448Z
UID:10000429-1872437400-1872531000@lpfcc.org
SUMMARY:Circle of Fathers
DESCRIPTION:At Circle of Fathers\, we create a judgement-free space where dads and male caregivers connect\, share\, and grow. Join us as we talk about the hard stuff\, celebrate the wins and support each other through real conversations and shared experiences in our community. Dinner provided. Drop-ins welcome.
URL:https://lpfcc.org/event/circle-of-fathers-3/2029-05-02/
LOCATION:Downstairs of Christ the King Lutheran Church\, 495 Florida Rd.\, Durango\, CO\, 81301\, United States
CATEGORIES:Fatherhood
ORGANIZER;CN="Anne Strainis":MAILTO:anne@lpfcc.org
END:VEVENT
BEGIN:VEVENT
DTSTART;TZID=America/Denver:20290606T173000
DTEND;TZID=America/Denver:20290607T193000
DTSTAMP:20260419T125951
CREATED:20260401T014753Z
LAST-MODIFIED:20260331T204448Z
UID:10000430-1875461400-1875555000@lpfcc.org
SUMMARY:Circle of Fathers
DESCRIPTION:At Circle of Fathers\, we create a judgement-free space where dads and male caregivers connect\, share\, and grow. Join us as we talk about the hard stuff\, celebrate the wins and support each other through real conversations and shared experiences in our community. Dinner provided. Drop-ins welcome.
URL:https://lpfcc.org/event/circle-of-fathers-3/2029-06-06/
LOCATION:Downstairs of Christ the King Lutheran Church\, 495 Florida Rd.\, Durango\, CO\, 81301\, United States
CATEGORIES:Fatherhood
ORGANIZER;CN="Anne Strainis":MAILTO:anne@lpfcc.org
END:VEVENT
BEGIN:VEVENT
DTSTART;TZID=America/Denver:20290704T173000
DTEND;TZID=America/Denver:20290705T193000
DTSTAMP:20260419T125951
CREATED:20260401T014753Z
LAST-MODIFIED:20260331T204448Z
UID:10000431-1877880600-1877974200@lpfcc.org
SUMMARY:Circle of Fathers
DESCRIPTION:At Circle of Fathers\, we create a judgement-free space where dads and male caregivers connect\, share\, and grow. Join us as we talk about the hard stuff\, celebrate the wins and support each other through real conversations and shared experiences in our community. Dinner provided. Drop-ins welcome.
URL:https://lpfcc.org/event/circle-of-fathers-3/2029-07-04/
LOCATION:Downstairs of Christ the King Lutheran Church\, 495 Florida Rd.\, Durango\, CO\, 81301\, United States
CATEGORIES:Fatherhood
ORGANIZER;CN="Anne Strainis":MAILTO:anne@lpfcc.org
END:VEVENT
BEGIN:VEVENT
DTSTART;TZID=America/Denver:20290801T173000
DTEND;TZID=America/Denver:20290802T193000
DTSTAMP:20260419T125951
CREATED:20260401T014753Z
LAST-MODIFIED:20260331T204448Z
UID:10000432-1880299800-1880393400@lpfcc.org
SUMMARY:Circle of Fathers
DESCRIPTION:At Circle of Fathers\, we create a judgement-free space where dads and male caregivers connect\, share\, and grow. Join us as we talk about the hard stuff\, celebrate the wins and support each other through real conversations and shared experiences in our community. Dinner provided. Drop-ins welcome.
URL:https://lpfcc.org/event/circle-of-fathers-3/2029-08-01/
LOCATION:Downstairs of Christ the King Lutheran Church\, 495 Florida Rd.\, Durango\, CO\, 81301\, United States
CATEGORIES:Fatherhood
ORGANIZER;CN="Anne Strainis":MAILTO:anne@lpfcc.org
END:VEVENT
BEGIN:VEVENT
DTSTART;TZID=America/Denver:20290905T173000
DTEND;TZID=America/Denver:20290906T193000
DTSTAMP:20260419T125951
CREATED:20260401T014753Z
LAST-MODIFIED:20260331T204448Z
UID:10000433-1883323800-1883417400@lpfcc.org
SUMMARY:Circle of Fathers
DESCRIPTION:At Circle of Fathers\, we create a judgement-free space where dads and male caregivers connect\, share\, and grow. Join us as we talk about the hard stuff\, celebrate the wins and support each other through real conversations and shared experiences in our community. Dinner provided. Drop-ins welcome.
URL:https://lpfcc.org/event/circle-of-fathers-3/2029-09-05/
LOCATION:Downstairs of Christ the King Lutheran Church\, 495 Florida Rd.\, Durango\, CO\, 81301\, United States
CATEGORIES:Fatherhood
ORGANIZER;CN="Anne Strainis":MAILTO:anne@lpfcc.org
END:VEVENT
BEGIN:VEVENT
DTSTART;TZID=America/Denver:20291003T173000
DTEND;TZID=America/Denver:20291004T193000
DTSTAMP:20260419T125951
CREATED:20260401T014753Z
LAST-MODIFIED:20260331T204448Z
UID:10000434-1885743000-1885836600@lpfcc.org
SUMMARY:Circle of Fathers
DESCRIPTION:At Circle of Fathers\, we create a judgement-free space where dads and male caregivers connect\, share\, and grow. Join us as we talk about the hard stuff\, celebrate the wins and support each other through real conversations and shared experiences in our community. Dinner provided. Drop-ins welcome.
URL:https://lpfcc.org/event/circle-of-fathers-3/2029-10-03/
LOCATION:Downstairs of Christ the King Lutheran Church\, 495 Florida Rd.\, Durango\, CO\, 81301\, United States
CATEGORIES:Fatherhood
ORGANIZER;CN="Anne Strainis":MAILTO:anne@lpfcc.org
END:VEVENT
BEGIN:VEVENT
DTSTART;TZID=America/Denver:20291107T173000
DTEND;TZID=America/Denver:20291108T193000
DTSTAMP:20260419T125951
CREATED:20260401T014753Z
LAST-MODIFIED:20260331T204448Z
UID:10000435-1888767000-1888860600@lpfcc.org
SUMMARY:Circle of Fathers
DESCRIPTION:At Circle of Fathers\, we create a judgement-free space where dads and male caregivers connect\, share\, and grow. Join us as we talk about the hard stuff\, celebrate the wins and support each other through real conversations and shared experiences in our community. Dinner provided. Drop-ins welcome.
URL:https://lpfcc.org/event/circle-of-fathers-3/2029-11-07/
LOCATION:Downstairs of Christ the King Lutheran Church\, 495 Florida Rd.\, Durango\, CO\, 81301\, United States
CATEGORIES:Fatherhood
ORGANIZER;CN="Anne Strainis":MAILTO:anne@lpfcc.org
END:VEVENT
BEGIN:VEVENT
DTSTART;TZID=America/Denver:20291205T173000
DTEND;TZID=America/Denver:20291206T193000
DTSTAMP:20260419T125951
CREATED:20260401T014753Z
LAST-MODIFIED:20260331T204448Z
UID:10000436-1891186200-1891279800@lpfcc.org
SUMMARY:Circle of Fathers
DESCRIPTION:At Circle of Fathers\, we create a judgement-free space where dads and male caregivers connect\, share\, and grow. Join us as we talk about the hard stuff\, celebrate the wins and support each other through real conversations and shared experiences in our community. Dinner provided. Drop-ins welcome.
URL:https://lpfcc.org/event/circle-of-fathers-3/2029-12-05/
LOCATION:Downstairs of Christ the King Lutheran Church\, 495 Florida Rd.\, Durango\, CO\, 81301\, United States
CATEGORIES:Fatherhood
ORGANIZER;CN="Anne Strainis":MAILTO:anne@lpfcc.org
END:VEVENT
BEGIN:VEVENT
DTSTART;TZID=America/Denver:20300102T173000
DTEND;TZID=America/Denver:20300103T193000
DTSTAMP:20260419T125951
CREATED:20260401T014753Z
LAST-MODIFIED:20260331T204448Z
UID:10000437-1893605400-1893699000@lpfcc.org
SUMMARY:Circle of Fathers
DESCRIPTION:At Circle of Fathers\, we create a judgement-free space where dads and male caregivers connect\, share\, and grow. Join us as we talk about the hard stuff\, celebrate the wins and support each other through real conversations and shared experiences in our community. Dinner provided. Drop-ins welcome.
URL:https://lpfcc.org/event/circle-of-fathers-3/2030-01-02/
LOCATION:Downstairs of Christ the King Lutheran Church\, 495 Florida Rd.\, Durango\, CO\, 81301\, United States
CATEGORIES:Fatherhood
ORGANIZER;CN="Anne Strainis":MAILTO:anne@lpfcc.org
END:VEVENT
BEGIN:VEVENT
DTSTART;TZID=America/Denver:20300206T173000
DTEND;TZID=America/Denver:20300207T193000
DTSTAMP:20260419T125951
CREATED:20260401T014753Z
LAST-MODIFIED:20260331T204448Z
UID:10000438-1896629400-1896723000@lpfcc.org
SUMMARY:Circle of Fathers
DESCRIPTION:At Circle of Fathers\, we create a judgement-free space where dads and male caregivers connect\, share\, and grow. Join us as we talk about the hard stuff\, celebrate the wins and support each other through real conversations and shared experiences in our community. Dinner provided. Drop-ins welcome.
URL:https://lpfcc.org/event/circle-of-fathers-3/2030-02-06/
LOCATION:Downstairs of Christ the King Lutheran Church\, 495 Florida Rd.\, Durango\, CO\, 81301\, United States
CATEGORIES:Fatherhood
ORGANIZER;CN="Anne Strainis":MAILTO:anne@lpfcc.org
END:VEVENT
BEGIN:VEVENT
DTSTART;TZID=America/Denver:20300306T173000
DTEND;TZID=America/Denver:20300307T193000
DTSTAMP:20260419T125951
CREATED:20260401T014753Z
LAST-MODIFIED:20260331T204448Z
UID:10000439-1899048600-1899142200@lpfcc.org
SUMMARY:Circle of Fathers
DESCRIPTION:At Circle of Fathers\, we create a judgement-free space where dads and male caregivers connect\, share\, and grow. Join us as we talk about the hard stuff\, celebrate the wins and support each other through real conversations and shared experiences in our community. Dinner provided. Drop-ins welcome.
URL:https://lpfcc.org/event/circle-of-fathers-3/2030-03-06/
LOCATION:Downstairs of Christ the King Lutheran Church\, 495 Florida Rd.\, Durango\, CO\, 81301\, United States
CATEGORIES:Fatherhood
ORGANIZER;CN="Anne Strainis":MAILTO:anne@lpfcc.org
END:VEVENT
BEGIN:VEVENT
DTSTART;TZID=America/Denver:20300403T173000
DTEND;TZID=America/Denver:20300404T193000
DTSTAMP:20260419T125951
CREATED:20260401T014753Z
LAST-MODIFIED:20260331T204448Z
UID:10000440-1901467800-1901561400@lpfcc.org
SUMMARY:Circle of Fathers
DESCRIPTION:At Circle of Fathers\, we create a judgement-free space where dads and male caregivers connect\, share\, and grow. Join us as we talk about the hard stuff\, celebrate the wins and support each other through real conversations and shared experiences in our community. Dinner provided. Drop-ins welcome.
URL:https://lpfcc.org/event/circle-of-fathers-3/2030-04-03/
LOCATION:Downstairs of Christ the King Lutheran Church\, 495 Florida Rd.\, Durango\, CO\, 81301\, United States
CATEGORIES:Fatherhood
ORGANIZER;CN="Anne Strainis":MAILTO:anne@lpfcc.org
END:VEVENT
BEGIN:VEVENT
DTSTART;TZID=America/Denver:20300501T173000
DTEND;TZID=America/Denver:20300502T193000
DTSTAMP:20260419T125951
CREATED:20260401T014753Z
LAST-MODIFIED:20260331T204448Z
UID:10000441-1903887000-1903980600@lpfcc.org
SUMMARY:Circle of Fathers
DESCRIPTION:At Circle of Fathers\, we create a judgement-free space where dads and male caregivers connect\, share\, and grow. Join us as we talk about the hard stuff\, celebrate the wins and support each other through real conversations and shared experiences in our community. Dinner provided. Drop-ins welcome.
URL:https://lpfcc.org/event/circle-of-fathers-3/2030-05-01/
LOCATION:Downstairs of Christ the King Lutheran Church\, 495 Florida Rd.\, Durango\, CO\, 81301\, United States
CATEGORIES:Fatherhood
ORGANIZER;CN="Anne Strainis":MAILTO:anne@lpfcc.org
END:VEVENT
BEGIN:VEVENT
DTSTART;TZID=America/Denver:20300605T173000
DTEND;TZID=America/Denver:20300606T193000
DTSTAMP:20260419T125951
CREATED:20260401T014753Z
LAST-MODIFIED:20260331T204448Z
UID:10000442-1906911000-1907004600@lpfcc.org
SUMMARY:Circle of Fathers
DESCRIPTION:At Circle of Fathers\, we create a judgement-free space where dads and male caregivers connect\, share\, and grow. Join us as we talk about the hard stuff\, celebrate the wins and support each other through real conversations and shared experiences in our community. Dinner provided. Drop-ins welcome.
URL:https://lpfcc.org/event/circle-of-fathers-3/2030-06-05/
LOCATION:Downstairs of Christ the King Lutheran Church\, 495 Florida Rd.\, Durango\, CO\, 81301\, United States
CATEGORIES:Fatherhood
ORGANIZER;CN="Anne Strainis":MAILTO:anne@lpfcc.org
END:VEVENT
BEGIN:VEVENT
DTSTART;TZID=America/Denver:20300703T173000
DTEND;TZID=America/Denver:20300704T193000
DTSTAMP:20260419T125951
CREATED:20260401T014753Z
LAST-MODIFIED:20260331T204448Z
UID:10000443-1909330200-1909423800@lpfcc.org
SUMMARY:Circle of Fathers
DESCRIPTION:At Circle of Fathers\, we create a judgement-free space where dads and male caregivers connect\, share\, and grow. Join us as we talk about the hard stuff\, celebrate the wins and support each other through real conversations and shared experiences in our community. Dinner provided. Drop-ins welcome.
URL:https://lpfcc.org/event/circle-of-fathers-3/2030-07-03/
LOCATION:Downstairs of Christ the King Lutheran Church\, 495 Florida Rd.\, Durango\, CO\, 81301\, United States
CATEGORIES:Fatherhood
ORGANIZER;CN="Anne Strainis":MAILTO:anne@lpfcc.org
END:VEVENT
BEGIN:VEVENT
DTSTART;TZID=America/Denver:20300807T173000
DTEND;TZID=America/Denver:20300808T193000
DTSTAMP:20260419T125951
CREATED:20260401T014753Z
LAST-MODIFIED:20260331T204448Z
UID:10000444-1912354200-1912447800@lpfcc.org
SUMMARY:Circle of Fathers
DESCRIPTION:At Circle of Fathers\, we create a judgement-free space where dads and male caregivers connect\, share\, and grow. Join us as we talk about the hard stuff\, celebrate the wins and support each other through real conversations and shared experiences in our community. Dinner provided. Drop-ins welcome.
URL:https://lpfcc.org/event/circle-of-fathers-3/2030-08-07/
LOCATION:Downstairs of Christ the King Lutheran Church\, 495 Florida Rd.\, Durango\, CO\, 81301\, United States
CATEGORIES:Fatherhood
ORGANIZER;CN="Anne Strainis":MAILTO:anne@lpfcc.org
END:VEVENT
BEGIN:VEVENT
DTSTART;TZID=America/Denver:20300904T173000
DTEND;TZID=America/Denver:20300905T193000
DTSTAMP:20260419T125951
CREATED:20260401T014753Z
LAST-MODIFIED:20260331T204448Z
UID:10000445-1914773400-1914867000@lpfcc.org
SUMMARY:Circle of Fathers
DESCRIPTION:At Circle of Fathers\, we create a judgement-free space where dads and male caregivers connect\, share\, and grow. Join us as we talk about the hard stuff\, celebrate the wins and support each other through real conversations and shared experiences in our community. Dinner provided. Drop-ins welcome.
URL:https://lpfcc.org/event/circle-of-fathers-3/2030-09-04/
LOCATION:Downstairs of Christ the King Lutheran Church\, 495 Florida Rd.\, Durango\, CO\, 81301\, United States
CATEGORIES:Fatherhood
ORGANIZER;CN="Anne Strainis":MAILTO:anne@lpfcc.org
END:VEVENT
BEGIN:VEVENT
DTSTART;TZID=America/Denver:20301002T173000
DTEND;TZID=America/Denver:20301003T193000
DTSTAMP:20260419T125951
CREATED:20260401T014753Z
LAST-MODIFIED:20260331T204448Z
UID:10000446-1917192600-1917286200@lpfcc.org
SUMMARY:Circle of Fathers
DESCRIPTION:At Circle of Fathers\, we create a judgement-free space where dads and male caregivers connect\, share\, and grow. Join us as we talk about the hard stuff\, celebrate the wins and support each other through real conversations and shared experiences in our community. Dinner provided. Drop-ins welcome.
URL:https://lpfcc.org/event/circle-of-fathers-3/2030-10-02/
LOCATION:Downstairs of Christ the King Lutheran Church\, 495 Florida Rd.\, Durango\, CO\, 81301\, United States
CATEGORIES:Fatherhood
ORGANIZER;CN="Anne Strainis":MAILTO:anne@lpfcc.org
END:VEVENT
BEGIN:VEVENT
DTSTART;TZID=America/Denver:20301106T173000
DTEND;TZID=America/Denver:20301107T193000
DTSTAMP:20260419T125951
CREATED:20260401T014753Z
LAST-MODIFIED:20260331T204448Z
UID:10000447-1920216600-1920310200@lpfcc.org
SUMMARY:Circle of Fathers
DESCRIPTION:At Circle of Fathers\, we create a judgement-free space where dads and male caregivers connect\, share\, and grow. Join us as we talk about the hard stuff\, celebrate the wins and support each other through real conversations and shared experiences in our community. Dinner provided. Drop-ins welcome.
URL:https://lpfcc.org/event/circle-of-fathers-3/2030-11-06/
LOCATION:Downstairs of Christ the King Lutheran Church\, 495 Florida Rd.\, Durango\, CO\, 81301\, United States
CATEGORIES:Fatherhood
ORGANIZER;CN="Anne Strainis":MAILTO:anne@lpfcc.org
END:VEVENT
BEGIN:VEVENT
DTSTART;TZID=America/Denver:20301204T173000
DTEND;TZID=America/Denver:20301205T193000
DTSTAMP:20260419T125951
CREATED:20260401T014753Z
LAST-MODIFIED:20260331T204448Z
UID:10000448-1922635800-1922729400@lpfcc.org
SUMMARY:Circle of Fathers
DESCRIPTION:At Circle of Fathers\, we create a judgement-free space where dads and male caregivers connect\, share\, and grow. Join us as we talk about the hard stuff\, celebrate the wins and support each other through real conversations and shared experiences in our community. Dinner provided. Drop-ins welcome.
URL:https://lpfcc.org/event/circle-of-fathers-3/2030-12-04/
LOCATION:Downstairs of Christ the King Lutheran Church\, 495 Florida Rd.\, Durango\, CO\, 81301\, United States
CATEGORIES:Fatherhood
ORGANIZER;CN="Anne Strainis":MAILTO:anne@lpfcc.org
END:VEVENT
BEGIN:VEVENT
DTSTART;TZID=America/Denver:20310101T173000
DTEND;TZID=America/Denver:20310102T193000
DTSTAMP:20260419T125951
CREATED:20260401T014753Z
LAST-MODIFIED:20260331T204448Z
UID:10000449-1925055000-1925148600@lpfcc.org
SUMMARY:Circle of Fathers
DESCRIPTION:At Circle of Fathers\, we create a judgement-free space where dads and male caregivers connect\, share\, and grow. Join us as we talk about the hard stuff\, celebrate the wins and support each other through real conversations and shared experiences in our community. Dinner provided. Drop-ins welcome.
URL:https://lpfcc.org/event/circle-of-fathers-3/2031-01-01/
LOCATION:Downstairs of Christ the King Lutheran Church\, 495 Florida Rd.\, Durango\, CO\, 81301\, United States
CATEGORIES:Fatherhood
ORGANIZER;CN="Anne Strainis":MAILTO:anne@lpfcc.org
END:VEVENT
BEGIN:VEVENT
DTSTART;TZID=America/Denver:20310205T173000
DTEND;TZID=America/Denver:20310206T193000
DTSTAMP:20260419T125951
CREATED:20260401T014753Z
LAST-MODIFIED:20260331T204448Z
UID:10000450-1928079000-1928172600@lpfcc.org
SUMMARY:Circle of Fathers
DESCRIPTION:At Circle of Fathers\, we create a judgement-free space where dads and male caregivers connect\, share\, and grow. Join us as we talk about the hard stuff\, celebrate the wins and support each other through real conversations and shared experiences in our community. Dinner provided. Drop-ins welcome.
URL:https://lpfcc.org/event/circle-of-fathers-3/2031-02-05/
LOCATION:Downstairs of Christ the King Lutheran Church\, 495 Florida Rd.\, Durango\, CO\, 81301\, United States
CATEGORIES:Fatherhood
ORGANIZER;CN="Anne Strainis":MAILTO:anne@lpfcc.org
END:VEVENT
BEGIN:VEVENT
DTSTART;TZID=America/Denver:20310305T173000
DTEND;TZID=America/Denver:20310306T193000
DTSTAMP:20260419T125951
CREATED:20260401T014753Z
LAST-MODIFIED:20260331T204448Z
UID:10000451-1930498200-1930591800@lpfcc.org
SUMMARY:Circle of Fathers
DESCRIPTION:At Circle of Fathers\, we create a judgement-free space where dads and male caregivers connect\, share\, and grow. Join us as we talk about the hard stuff\, celebrate the wins and support each other through real conversations and shared experiences in our community. Dinner provided. Drop-ins welcome.
URL:https://lpfcc.org/event/circle-of-fathers-3/2031-03-05/
LOCATION:Downstairs of Christ the King Lutheran Church\, 495 Florida Rd.\, Durango\, CO\, 81301\, United States
CATEGORIES:Fatherhood
ORGANIZER;CN="Anne Strainis":MAILTO:anne@lpfcc.org
END:VEVENT
END:VCALENDAR