BEGIN:VCALENDAR
VERSION:2.0
PRODID:-//LPFCC - ECPv6.15.20//NONSGML v1.0//EN
CALSCALE:GREGORIAN
METHOD:PUBLISH
X-ORIGINAL-URL:https://lpfcc.org
X-WR-CALDESC:Events for LPFCC
REFRESH-INTERVAL;VALUE=DURATION:PT1H
X-Robots-Tag:noindex
X-PUBLISHED-TTL:PT1H
BEGIN:VTIMEZONE
TZID:America/Denver
BEGIN:DAYLIGHT
TZOFFSETFROM:-0700
TZOFFSETTO:-0600
TZNAME:MDT
DTSTART:20210314T090000
END:DAYLIGHT
BEGIN:STANDARD
TZOFFSETFROM:-0600
TZOFFSETTO:-0700
TZNAME:MST
DTSTART:20211107T080000
END:STANDARD
BEGIN:DAYLIGHT
TZOFFSETFROM:-0700
TZOFFSETTO:-0600
TZNAME:MDT
DTSTART:20220313T090000
END:DAYLIGHT
BEGIN:STANDARD
TZOFFSETFROM:-0600
TZOFFSETTO:-0700
TZNAME:MST
DTSTART:20221106T080000
END:STANDARD
BEGIN:DAYLIGHT
TZOFFSETFROM:-0700
TZOFFSETTO:-0600
TZNAME:MDT
DTSTART:20230312T090000
END:DAYLIGHT
BEGIN:STANDARD
TZOFFSETFROM:-0600
TZOFFSETTO:-0700
TZNAME:MST
DTSTART:20231105T080000
END:STANDARD
BEGIN:DAYLIGHT
TZOFFSETFROM:-0700
TZOFFSETTO:-0600
TZNAME:MDT
DTSTART:20240310T090000
END:DAYLIGHT
BEGIN:STANDARD
TZOFFSETFROM:-0600
TZOFFSETTO:-0700
TZNAME:MST
DTSTART:20241103T080000
END:STANDARD
END:VTIMEZONE
BEGIN:VEVENT
DTSTART;TZID=America/Denver:20220521T030000
DTEND;TZID=America/Denver:20220521T050000
DTSTAMP:20260419T062806
CREATED:20220517T224405Z
LAST-MODIFIED:20220517T225631Z
UID:10000031-1653102000-1653109200@lpfcc.org
SUMMARY:Garden Tea Party!
DESCRIPTION:SATURDAY AT 9 AM – 11 AM\n\n\nGarden Tea Party!\n\nSummit Church Durango
URL:https://lpfcc.org/event/garden-tea-party/
LOCATION:Summit Church\, Address: 2917 Aspen Dr.\, Durango\, CO\, 81301\, United States
CATEGORIES:Fatherhood,Together We Grow
ATTACH;FMTTYPE=image/jpeg:https://lpfcc.org/wp-content/uploads/2022/05/279361617_4386505604786426_5205637910175468446_n.jpg
END:VEVENT
BEGIN:VEVENT
DTSTART;TZID=America/Denver:20220521T030000
DTEND;TZID=America/Denver:20220521T060000
DTSTAMP:20260419T062806
CREATED:20220517T215039Z
LAST-MODIFIED:20220517T221329Z
UID:10000030-1653102000-1653112800@lpfcc.org
SUMMARY:Mental Health & Wellness Training:  Tools To Promote Positive Change
DESCRIPTION:Join us at the Pond Farm! \n  \nSaturday\, May21\, 2022 \n  \nFree Event\,  Everyone Welcome! \n  \n 
URL:https://lpfcc.org/event/mental-health-wellness-training-tools-to-promote-positive-change/
LOCATION:Pond Farm\, 2997 CR 215\, Durango\, CO\, 81301
CATEGORIES:Fatherhood,Together We Grow
ATTACH;FMTTYPE=image/png:https://lpfcc.org/wp-content/uploads/2022/05/Mental-Health-Training-copy.png
ORGANIZER;CN="Judy Bierma":MAILTO:judyoga@ymail.com
END:VEVENT
BEGIN:VEVENT
DTSTART;VALUE=DATE:20220619
DTEND;VALUE=DATE:20220621
DTSTAMP:20260419T062806
CREATED:20220606T230608Z
LAST-MODIFIED:20220606T230918Z
UID:10000032-1655661600-1655747999@lpfcc.org
SUMMARY:LPFCC closed in observance of Juneteenth
DESCRIPTION:The Family Center will be close this day in observation of Juneteenth.
URL:https://lpfcc.org/event/lpfcc-closed-in-observance-of-juneteenth/
LOCATION:The La Plata Family Center\, 495 rd.\, Durango\, CO\, 81301\, United States
CATEGORIES:Fatherhood,Together We Grow,Yoga
ATTACH;FMTTYPE=image/png:https://lpfcc.org/wp-content/uploads/2022/06/Untitled-design-2.png
ORGANIZER;CN="Michael Riggs":MAILTO:michael@lpfcc.org
END:VEVENT
BEGIN:VEVENT
DTSTART;TZID=America/Denver:20230120T100000
DTEND;TZID=America/Denver:20230120T120000
DTSTAMP:20260419T062806
CREATED:20230104T023530Z
LAST-MODIFIED:20230104T045244Z
UID:10000033-1674208800-1674216000@lpfcc.org
SUMMARY:Reflect and Restore - FREE EVENT
DESCRIPTION:Let’s Rest\, Reflect and Vision Together! Dr. Mary Katherine\, Professional Psychologist and Judy Bierma\, Certified Yoga E-RYT 300Will guide you\, and support you toward a place of calm\, focus and clarity as you plan your year.\nWe will take time to gather inward\, calm the restless mind and return your body to it’s natural state of ease.\nThis nourishing evening offers a combination of Mental Health Training specifically aimed at restoring and maintaining calmness. Our training\ncompletes with a Restorative Yoga Practice. Appropriate for everyone REGISTRATION is required.\nPlease register online at the La Plata Family Center website LPFCC.ORG \n Register Now\n 
URL:https://lpfcc.org/event/reflect-and-restore-free-event/
LOCATION:The La Plata Family Center\, 495 rd.\, Durango\, CO\, 81301\, United States
CATEGORIES:Together We Grow
ATTACH;FMTTYPE=image/png:https://lpfcc.org/wp-content/uploads/2023/01/rr23.png
ORGANIZER;CN="Judy Bierma":MAILTO:judyoga@ymail.com
END:VEVENT
BEGIN:VEVENT
DTSTART;TZID=America/Denver:20230217T100000
DTEND;TZID=America/Denver:20230217T120000
DTSTAMP:20260419T062806
CREATED:20230104T050751Z
LAST-MODIFIED:20230104T051011Z
UID:10000034-1676628000-1676635200@lpfcc.org
SUMMARY:Women & Body Image: Body Love
DESCRIPTION:TBA \n  \n Register Now
URL:https://lpfcc.org/event/women-body-image-body-love/
LOCATION:The La Plata Family Center\, 495 rd.\, Durango\, CO\, 81301\, United States
CATEGORIES:Together We Grow
ORGANIZER;CN="Judy Bierma":MAILTO:judyoga@ymail.com
END:VEVENT
BEGIN:VEVENT
DTSTART;TZID=America/Denver:20230317T110000
DTEND;TZID=America/Denver:20230317T130000
DTSTAMP:20260419T062806
CREATED:20230104T050839Z
LAST-MODIFIED:20230104T050912Z
UID:10000035-1679050800-1679058000@lpfcc.org
SUMMARY:Coping and Stress Relief Techniques
DESCRIPTION:TBA \n  \n Register Now
URL:https://lpfcc.org/event/coping-and-stress-relief-techniques/
LOCATION:The La Plata Family Center\, 495 rd.\, Durango\, CO\, 81301\, United States
CATEGORIES:Together We Grow
ORGANIZER;CN="Judy Bierma":MAILTO:judyoga@ymail.com
END:VEVENT
BEGIN:VEVENT
DTSTART;TZID=America/Denver:20230407T050000
DTEND;TZID=America/Denver:20230407T130000
DTSTAMP:20260419T062806
CREATED:20230323T195820Z
LAST-MODIFIED:20230323T201156Z
UID:10000036-1680843600-1680872400@lpfcc.org
SUMMARY:VITA Tax Assistance & Free Filing Event
DESCRIPTION:VITA Tax Assistance & Free Filing – Walk-ins Welcome\nApril 7th 2023 \n  \nEvent Held at Durango Rec Center – Eolus Room \n11a – 7pm \nPlease Bring: ID\, SSN # or ITIN #\, Last year’s State & Federal returns\, Wage & Earning Statements (W-2\, W-2G\, 1099-R\, 1099-MISC) \nFood & Refreshments provided. \nCHILDCARE – Rec Center Passes or Kid’s Club passes available – \nMUST register prior to the event below! \nFree Yoga Session from 5p-6:30p (in Sunlight Room at Durango Rec Center) \nMore info: call 970-385-4747 \n  \n  \n\n	Notice: JavaScript is required for this content.
URL:https://lpfcc.org/event/vita-tax-assistance-free-filing-event/
LOCATION:The La Plata Family Center\, 495 rd.\, Durango\, CO\, 81301\, United States
CATEGORIES:Together We Grow
ATTACH;FMTTYPE=image/jpeg:https://lpfcc.org/wp-content/uploads/2023/03/calculator-g9d40e3449_1920.jpg
ORGANIZER;CN="Amber Turley":MAILTO:amber@lpfcc.org
END:VEVENT
BEGIN:VEVENT
DTSTART;TZID=America/Denver:20230410T100000
DTEND;TZID=America/Denver:20230410T110000
DTSTAMP:20260419T062806
CREATED:20230410T201320Z
LAST-MODIFIED:20230410T201320Z
UID:10000136-1681120800-1681124400@lpfcc.org
SUMMARY:FREE art classes for kids
DESCRIPTION:Mondays 4-5p at La Plata family center
URL:https://lpfcc.org/event/free-art-classes-for-kids/2023-04-10/
LOCATION:The La Plata Family Center\, 495 rd.\, Durango\, CO\, 81301\, United States
ORGANIZER;CN="Amber Turley":MAILTO:amber@lpfcc.org
END:VEVENT
BEGIN:VEVENT
DTSTART;TZID=America/Denver:20230417T100000
DTEND;TZID=America/Denver:20230417T110000
DTSTAMP:20260419T062806
CREATED:20230410T201320Z
LAST-MODIFIED:20230410T201320Z
UID:10000137-1681725600-1681729200@lpfcc.org
SUMMARY:FREE art classes for kids
DESCRIPTION:Mondays 4-5p at La Plata family center
URL:https://lpfcc.org/event/free-art-classes-for-kids/2023-04-17/
LOCATION:The La Plata Family Center\, 495 rd.\, Durango\, CO\, 81301\, United States
ORGANIZER;CN="Amber Turley":MAILTO:amber@lpfcc.org
END:VEVENT
BEGIN:VEVENT
DTSTART;TZID=America/Denver:20230420T030000
DTEND;TZID=America/Denver:20230420T050000
DTSTAMP:20260419T062806
CREATED:20230405T225437Z
LAST-MODIFIED:20230405T225829Z
UID:10000062-1681959600-1681966800@lpfcc.org
SUMMARY:Giving Garden - Workday
DESCRIPTION:Join us for a Workday in the Giving Garden where we will be tending to the Garden needs such as watering\, weeding\, harvesting\, etc.  This event will be weather permitting and will likely not take place in the event of severe weather.
URL:https://lpfcc.org/event/giving-garden-workday/2023-04-20/
LOCATION:Summit Church\, Address: 2917 Aspen Dr.\, Durango\, CO\, 81301\, United States
CATEGORIES:Together We Grow
ORGANIZER;CN="Amber Turley":MAILTO:amber@lpfcc.org
END:VEVENT
BEGIN:VEVENT
DTSTART;TZID=America/Denver:20230422T030000
DTEND;TZID=America/Denver:20230422T070000
DTSTAMP:20260419T062806
CREATED:20230405T233305Z
LAST-MODIFIED:20230405T233305Z
UID:10000102-1682132400-1682146800@lpfcc.org
SUMMARY:Pond Farm - Workday & Earth day/Welcome Celebration
DESCRIPTION:Join us for a Workday & Earth day/Welcome Celebration at the Pond Farm where we will be tending to the Garden needs such as watering\, weeding\, harvesting\, etc.  This event will be weather permitting and will likely not take place in the event of severe weather.
URL:https://lpfcc.org/event/pond-farm-workday-earth-day-welcome-celebration/
LOCATION:Pond Farm\, 2997 CR 215\, Durango\, CO\, 81301
CATEGORIES:Together We Grow
ORGANIZER;CN="Amber Turley":MAILTO:amber@lpfcc.org
END:VEVENT
BEGIN:VEVENT
DTSTART;TZID=America/Denver:20230424T100000
DTEND;TZID=America/Denver:20230424T110000
DTSTAMP:20260419T062806
CREATED:20230410T201320Z
LAST-MODIFIED:20230410T201320Z
UID:10000138-1682330400-1682334000@lpfcc.org
SUMMARY:FREE art classes for kids
DESCRIPTION:Mondays 4-5p at La Plata family center
URL:https://lpfcc.org/event/free-art-classes-for-kids/2023-04-24/
LOCATION:The La Plata Family Center\, 495 rd.\, Durango\, CO\, 81301\, United States
ORGANIZER;CN="Amber Turley":MAILTO:amber@lpfcc.org
END:VEVENT
BEGIN:VEVENT
DTSTART;TZID=America/Denver:20230427T030000
DTEND;TZID=America/Denver:20230427T050000
DTSTAMP:20260419T062806
CREATED:20230405T225437Z
LAST-MODIFIED:20230405T225829Z
UID:10000063-1682564400-1682571600@lpfcc.org
SUMMARY:Giving Garden - Workday
DESCRIPTION:Join us for a Workday in the Giving Garden where we will be tending to the Garden needs such as watering\, weeding\, harvesting\, etc.  This event will be weather permitting and will likely not take place in the event of severe weather.
URL:https://lpfcc.org/event/giving-garden-workday/2023-04-27/
LOCATION:Summit Church\, Address: 2917 Aspen Dr.\, Durango\, CO\, 81301\, United States
CATEGORIES:Together We Grow
ORGANIZER;CN="Amber Turley":MAILTO:amber@lpfcc.org
END:VEVENT
BEGIN:VEVENT
DTSTART;TZID=America/Denver:20230429T030000
DTEND;TZID=America/Denver:20230429T070000
DTSTAMP:20260419T062806
CREATED:20230405T233735Z
LAST-MODIFIED:20230406T003756Z
UID:10000103-1682737200-1682751600@lpfcc.org
SUMMARY:Pond Farm - Workday
DESCRIPTION:Join us for a Workday at the Pond Farm where we will be tending to the Garden needs such as watering\, weeding\, harvesting\, etc.  This event will be weather permitting and will likely not take place in the event of severe weather.
URL:https://lpfcc.org/event/pond-farm-workday/2023-04-29/
LOCATION:Pond Farm\, 2997 CR 215\, Durango\, CO\, 81301
CATEGORIES:Together We Grow
ORGANIZER;CN="Amber Turley":MAILTO:amber@lpfcc.org
END:VEVENT
BEGIN:VEVENT
DTSTART;TZID=America/Denver:20230502T040000
DTEND;TZID=America/Denver:20230502T060000
DTSTAMP:20260419T062806
CREATED:20230405T231537Z
LAST-MODIFIED:20230405T232737Z
UID:10000086-1683000000-1683007200@lpfcc.org
SUMMARY:Peace Garden	- Workday
DESCRIPTION:Join us for a Workday in the Peace Garden where we will be tending to the Garden needs such as watering\, weeding\, harvesting\, etc.  This event will be weather permitting and will likely not take place in the event of severe weather.
URL:https://lpfcc.org/event/peace-garden-workday/2023-05-02/
LOCATION:Peace Garden\, 495 Florida Rd.\, Durango\, CO\, 81301\, United States
CATEGORIES:Together We Grow
ORGANIZER;CN="Amber Turley":MAILTO:amber@lpfcc.org
END:VEVENT
BEGIN:VEVENT
DTSTART;TZID=America/Denver:20230504T030000
DTEND;TZID=America/Denver:20230504T050000
DTSTAMP:20260419T062806
CREATED:20230405T225437Z
LAST-MODIFIED:20230405T225829Z
UID:10000064-1683169200-1683176400@lpfcc.org
SUMMARY:Giving Garden - Workday
DESCRIPTION:Join us for a Workday in the Giving Garden where we will be tending to the Garden needs such as watering\, weeding\, harvesting\, etc.  This event will be weather permitting and will likely not take place in the event of severe weather.
URL:https://lpfcc.org/event/giving-garden-workday/2023-05-04/
LOCATION:Summit Church\, Address: 2917 Aspen Dr.\, Durango\, CO\, 81301\, United States
CATEGORIES:Together We Grow
ORGANIZER;CN="Amber Turley":MAILTO:amber@lpfcc.org
END:VEVENT
BEGIN:VEVENT
DTSTART;TZID=America/Denver:20230509T040000
DTEND;TZID=America/Denver:20230509T060000
DTSTAMP:20260419T062806
CREATED:20230405T231537Z
LAST-MODIFIED:20230405T232737Z
UID:10000087-1683604800-1683612000@lpfcc.org
SUMMARY:Peace Garden	- Workday
DESCRIPTION:Join us for a Workday in the Peace Garden where we will be tending to the Garden needs such as watering\, weeding\, harvesting\, etc.  This event will be weather permitting and will likely not take place in the event of severe weather.
URL:https://lpfcc.org/event/peace-garden-workday/2023-05-09/
LOCATION:Peace Garden\, 495 Florida Rd.\, Durango\, CO\, 81301\, United States
CATEGORIES:Together We Grow
ORGANIZER;CN="Amber Turley":MAILTO:amber@lpfcc.org
END:VEVENT
BEGIN:VEVENT
DTSTART;TZID=America/Denver:20230511T030000
DTEND;TZID=America/Denver:20230511T050000
DTSTAMP:20260419T062806
CREATED:20230405T225437Z
LAST-MODIFIED:20230405T225829Z
UID:10000065-1683774000-1683781200@lpfcc.org
SUMMARY:Giving Garden - Workday
DESCRIPTION:Join us for a Workday in the Giving Garden where we will be tending to the Garden needs such as watering\, weeding\, harvesting\, etc.  This event will be weather permitting and will likely not take place in the event of severe weather.
URL:https://lpfcc.org/event/giving-garden-workday/2023-05-11/
LOCATION:Summit Church\, Address: 2917 Aspen Dr.\, Durango\, CO\, 81301\, United States
CATEGORIES:Together We Grow
ORGANIZER;CN="Amber Turley":MAILTO:amber@lpfcc.org
END:VEVENT
BEGIN:VEVENT
DTSTART;TZID=America/Denver:20230516T040000
DTEND;TZID=America/Denver:20230516T060000
DTSTAMP:20260419T062806
CREATED:20230405T231537Z
LAST-MODIFIED:20230405T232737Z
UID:10000088-1684209600-1684216800@lpfcc.org
SUMMARY:Peace Garden	- Workday
DESCRIPTION:Join us for a Workday in the Peace Garden where we will be tending to the Garden needs such as watering\, weeding\, harvesting\, etc.  This event will be weather permitting and will likely not take place in the event of severe weather.
URL:https://lpfcc.org/event/peace-garden-workday/2023-05-16/
LOCATION:Peace Garden\, 495 Florida Rd.\, Durango\, CO\, 81301\, United States
CATEGORIES:Together We Grow
ORGANIZER;CN="Amber Turley":MAILTO:amber@lpfcc.org
END:VEVENT
BEGIN:VEVENT
DTSTART;TZID=America/Denver:20230518T030000
DTEND;TZID=America/Denver:20230518T050000
DTSTAMP:20260419T062806
CREATED:20230405T225437Z
LAST-MODIFIED:20230405T225829Z
UID:10000066-1684378800-1684386000@lpfcc.org
SUMMARY:Giving Garden - Workday
DESCRIPTION:Join us for a Workday in the Giving Garden where we will be tending to the Garden needs such as watering\, weeding\, harvesting\, etc.  This event will be weather permitting and will likely not take place in the event of severe weather.
URL:https://lpfcc.org/event/giving-garden-workday/2023-05-18/
LOCATION:Summit Church\, Address: 2917 Aspen Dr.\, Durango\, CO\, 81301\, United States
CATEGORIES:Together We Grow
ORGANIZER;CN="Amber Turley":MAILTO:amber@lpfcc.org
END:VEVENT
BEGIN:VEVENT
DTSTART;TZID=America/Denver:20230520T020000
DTEND;TZID=America/Denver:20230520T110000
DTSTAMP:20260419T062806
CREATED:20230405T233735Z
LAST-MODIFIED:20230406T003756Z
UID:10000104-1684548000-1684580400@lpfcc.org
SUMMARY:Pond Farm - Workday
DESCRIPTION:Join us for a Workday at the Pond Farm where we will be tending to the Garden needs such as watering\, weeding\, harvesting\, etc.  This event will be weather permitting and will likely not take place in the event of severe weather.
URL:https://lpfcc.org/event/pond-farm-workday/2023-05-20/
LOCATION:Pond Farm\, 2997 CR 215\, Durango\, CO\, 81301
CATEGORIES:Together We Grow
ORGANIZER;CN="Amber Turley":MAILTO:amber@lpfcc.org
END:VEVENT
BEGIN:VEVENT
DTSTART;TZID=America/Denver:20230523T040000
DTEND;TZID=America/Denver:20230523T060000
DTSTAMP:20260419T062806
CREATED:20230405T231537Z
LAST-MODIFIED:20230405T232737Z
UID:10000089-1684814400-1684821600@lpfcc.org
SUMMARY:Peace Garden	- Workday
DESCRIPTION:Join us for a Workday in the Peace Garden where we will be tending to the Garden needs such as watering\, weeding\, harvesting\, etc.  This event will be weather permitting and will likely not take place in the event of severe weather.
URL:https://lpfcc.org/event/peace-garden-workday/2023-05-23/
LOCATION:Peace Garden\, 495 Florida Rd.\, Durango\, CO\, 81301\, United States
CATEGORIES:Together We Grow
ORGANIZER;CN="Amber Turley":MAILTO:amber@lpfcc.org
END:VEVENT
BEGIN:VEVENT
DTSTART;TZID=America/Denver:20230525T030000
DTEND;TZID=America/Denver:20230525T050000
DTSTAMP:20260419T062806
CREATED:20230405T225437Z
LAST-MODIFIED:20230405T225829Z
UID:10000067-1684983600-1684990800@lpfcc.org
SUMMARY:Giving Garden - Workday
DESCRIPTION:Join us for a Workday in the Giving Garden where we will be tending to the Garden needs such as watering\, weeding\, harvesting\, etc.  This event will be weather permitting and will likely not take place in the event of severe weather.
URL:https://lpfcc.org/event/giving-garden-workday/2023-05-25/
LOCATION:Summit Church\, Address: 2917 Aspen Dr.\, Durango\, CO\, 81301\, United States
CATEGORIES:Together We Grow
ORGANIZER;CN="Amber Turley":MAILTO:amber@lpfcc.org
END:VEVENT
BEGIN:VEVENT
DTSTART;TZID=America/Denver:20230527T020000
DTEND;TZID=America/Denver:20230527T110000
DTSTAMP:20260419T062806
CREATED:20230405T233735Z
LAST-MODIFIED:20230406T003756Z
UID:10000105-1685152800-1685185200@lpfcc.org
SUMMARY:Pond Farm - Workday
DESCRIPTION:Join us for a Workday at the Pond Farm where we will be tending to the Garden needs such as watering\, weeding\, harvesting\, etc.  This event will be weather permitting and will likely not take place in the event of severe weather.
URL:https://lpfcc.org/event/pond-farm-workday/2023-05-27/
LOCATION:Pond Farm\, 2997 CR 215\, Durango\, CO\, 81301
CATEGORIES:Together We Grow
ORGANIZER;CN="Amber Turley":MAILTO:amber@lpfcc.org
END:VEVENT
BEGIN:VEVENT
DTSTART;TZID=America/Denver:20230530T040000
DTEND;TZID=America/Denver:20230530T060000
DTSTAMP:20260419T062806
CREATED:20230405T231537Z
LAST-MODIFIED:20230405T232737Z
UID:10000090-1685419200-1685426400@lpfcc.org
SUMMARY:Peace Garden	- Workday
DESCRIPTION:Join us for a Workday in the Peace Garden where we will be tending to the Garden needs such as watering\, weeding\, harvesting\, etc.  This event will be weather permitting and will likely not take place in the event of severe weather.
URL:https://lpfcc.org/event/peace-garden-workday/2023-05-30/
LOCATION:Peace Garden\, 495 Florida Rd.\, Durango\, CO\, 81301\, United States
CATEGORIES:Together We Grow
ORGANIZER;CN="Amber Turley":MAILTO:amber@lpfcc.org
END:VEVENT
BEGIN:VEVENT
DTSTART;TZID=America/Denver:20230601T030000
DTEND;TZID=America/Denver:20230601T053000
DTSTAMP:20260419T062806
CREATED:20230405T225748Z
LAST-MODIFIED:20230405T225748Z
UID:10000081-1685588400-1685597400@lpfcc.org
SUMMARY:Giving Garden - Workday & Nature Writing/Oil Pastel Resist
DESCRIPTION:Workday & Nature Writing/Oil Pastel Resist
URL:https://lpfcc.org/event/giving-garden-workday-nature-writing-oil-pastel-resist/
LOCATION:Summit Church\, Address: 2917 Aspen Dr.\, Durango\, CO\, 81301\, United States
CATEGORIES:Together We Grow
ORGANIZER;CN="Amber Turley":MAILTO:amber@lpfcc.org
END:VEVENT
BEGIN:VEVENT
DTSTART;TZID=America/Denver:20230606T040000
DTEND;TZID=America/Denver:20230606T060000
DTSTAMP:20260419T062806
CREATED:20230405T231814Z
LAST-MODIFIED:20230405T231814Z
UID:10000097-1686024000-1686031200@lpfcc.org
SUMMARY:Peace Garden	- Nature Writing & Fruit/Veg Prints
DESCRIPTION:Join us for a Nature Writing & Fruit/Veg Prints in the Peace Garden.  This event will be weather permitting and will likely not take place in the event of severe weather.
URL:https://lpfcc.org/event/peace-garden-nature-writing-fruit-veg-prints/
LOCATION:Peace Garden\, 495 Florida Rd.\, Durango\, CO\, 81301\, United States
CATEGORIES:Together We Grow
ORGANIZER;CN="Amber Turley":MAILTO:amber@lpfcc.org
END:VEVENT
BEGIN:VEVENT
DTSTART;TZID=America/Denver:20230608T030000
DTEND;TZID=America/Denver:20230608T050000
DTSTAMP:20260419T062806
CREATED:20230405T225437Z
LAST-MODIFIED:20230405T225829Z
UID:10000068-1686193200-1686200400@lpfcc.org
SUMMARY:Giving Garden - Workday
DESCRIPTION:Join us for a Workday in the Giving Garden where we will be tending to the Garden needs such as watering\, weeding\, harvesting\, etc.  This event will be weather permitting and will likely not take place in the event of severe weather.
URL:https://lpfcc.org/event/giving-garden-workday/2023-06-08/
LOCATION:Summit Church\, Address: 2917 Aspen Dr.\, Durango\, CO\, 81301\, United States
CATEGORIES:Together We Grow
ORGANIZER;CN="Amber Turley":MAILTO:amber@lpfcc.org
END:VEVENT
BEGIN:VEVENT
DTSTART;TZID=America/Denver:20230610T030000
DTEND;TZID=America/Denver:20230610T070000
DTSTAMP:20260419T062806
CREATED:20230405T233900Z
LAST-MODIFIED:20230405T233900Z
UID:10000111-1686366000-1686380400@lpfcc.org
SUMMARY:Pond Farm - Workday & Nature Writing/Watercolor
DESCRIPTION:Join us for a Workday & Nature Writing/Watercolor at the Pond Farm where we will be tending to the Garden needs such as watering\, weeding\, harvesting\, etc.  This event will be weather permitting and will likely not take place in the event of severe weather.
URL:https://lpfcc.org/event/pond-farm-workday-nature-writing-watercolor/
LOCATION:Pond Farm\, 2997 CR 215\, Durango\, CO\, 81301
CATEGORIES:Together We Grow
ORGANIZER;CN="Amber Turley":MAILTO:amber@lpfcc.org
END:VEVENT
BEGIN:VEVENT
DTSTART;TZID=America/Denver:20230613T040000
DTEND;TZID=America/Denver:20230613T060000
DTSTAMP:20260419T062806
CREATED:20230405T231537Z
LAST-MODIFIED:20230405T232737Z
UID:10000091-1686628800-1686636000@lpfcc.org
SUMMARY:Peace Garden	- Workday
DESCRIPTION:Join us for a Workday in the Peace Garden where we will be tending to the Garden needs such as watering\, weeding\, harvesting\, etc.  This event will be weather permitting and will likely not take place in the event of severe weather.
URL:https://lpfcc.org/event/peace-garden-workday/2023-06-13/
LOCATION:Peace Garden\, 495 Florida Rd.\, Durango\, CO\, 81301\, United States
CATEGORIES:Together We Grow
ORGANIZER;CN="Amber Turley":MAILTO:amber@lpfcc.org
END:VEVENT
END:VCALENDAR