BEGIN:VCALENDAR
VERSION:2.0
PRODID:-//LPFCC - ECPv6.15.20//NONSGML v1.0//EN
CALSCALE:GREGORIAN
METHOD:PUBLISH
X-ORIGINAL-URL:https://lpfcc.org
X-WR-CALDESC:Events for LPFCC
REFRESH-INTERVAL;VALUE=DURATION:PT1H
X-Robots-Tag:noindex
X-PUBLISHED-TTL:PT1H
BEGIN:VTIMEZONE
TZID:America/Denver
BEGIN:DAYLIGHT
TZOFFSETFROM:-0700
TZOFFSETTO:-0600
TZNAME:MDT
DTSTART:20250309T090000
END:DAYLIGHT
BEGIN:STANDARD
TZOFFSETFROM:-0600
TZOFFSETTO:-0700
TZNAME:MST
DTSTART:20251102T080000
END:STANDARD
BEGIN:DAYLIGHT
TZOFFSETFROM:-0700
TZOFFSETTO:-0600
TZNAME:MDT
DTSTART:20260308T090000
END:DAYLIGHT
BEGIN:STANDARD
TZOFFSETFROM:-0600
TZOFFSETTO:-0700
TZNAME:MST
DTSTART:20261101T080000
END:STANDARD
BEGIN:DAYLIGHT
TZOFFSETFROM:-0700
TZOFFSETTO:-0600
TZNAME:MDT
DTSTART:20270314T090000
END:DAYLIGHT
BEGIN:STANDARD
TZOFFSETFROM:-0600
TZOFFSETTO:-0700
TZNAME:MST
DTSTART:20271107T080000
END:STANDARD
END:VTIMEZONE
BEGIN:VEVENT
DTSTART;TZID=America/Denver:20260805T173000
DTEND;TZID=America/Denver:20260806T193000
DTSTAMP:20260419T214604
CREATED:20260401T014753Z
LAST-MODIFIED:20260331T204448Z
UID:10000396-1785951000-1786044600@lpfcc.org
SUMMARY:Circle of Fathers
DESCRIPTION:At Circle of Fathers\, we create a judgement-free space where dads and male caregivers connect\, share\, and grow. Join us as we talk about the hard stuff\, celebrate the wins and support each other through real conversations and shared experiences in our community. Dinner provided. Drop-ins welcome.
URL:https://lpfcc.org/event/circle-of-fathers-3/2026-08-05/
LOCATION:Downstairs of Christ the King Lutheran Church\, 495 Florida Rd.\, Durango\, CO\, 81301\, United States
CATEGORIES:Fatherhood
ORGANIZER;CN="Anne Strainis":MAILTO:anne@lpfcc.org
END:VEVENT
END:VCALENDAR