BEGIN:VCALENDAR
VERSION:2.0
PRODID:-//LPFCC - ECPv6.15.20//NONSGML v1.0//EN
CALSCALE:GREGORIAN
METHOD:PUBLISH
X-WR-CALNAME:LPFCC
X-ORIGINAL-URL:https://lpfcc.org
X-WR-CALDESC:Events for LPFCC
REFRESH-INTERVAL;VALUE=DURATION:PT1H
X-Robots-Tag:noindex
X-PUBLISHED-TTL:PT1H
BEGIN:VTIMEZONE
TZID:America/Denver
BEGIN:DAYLIGHT
TZOFFSETFROM:-0700
TZOFFSETTO:-0600
TZNAME:MDT
DTSTART:20230312T090000
END:DAYLIGHT
BEGIN:STANDARD
TZOFFSETFROM:-0600
TZOFFSETTO:-0700
TZNAME:MST
DTSTART:20231105T080000
END:STANDARD
BEGIN:DAYLIGHT
TZOFFSETFROM:-0700
TZOFFSETTO:-0600
TZNAME:MDT
DTSTART:20240310T090000
END:DAYLIGHT
BEGIN:STANDARD
TZOFFSETFROM:-0600
TZOFFSETTO:-0700
TZNAME:MST
DTSTART:20241103T080000
END:STANDARD
BEGIN:DAYLIGHT
TZOFFSETFROM:-0700
TZOFFSETTO:-0600
TZNAME:MDT
DTSTART:20250309T090000
END:DAYLIGHT
BEGIN:STANDARD
TZOFFSETFROM:-0600
TZOFFSETTO:-0700
TZNAME:MST
DTSTART:20251102T080000
END:STANDARD
END:VTIMEZONE
BEGIN:VEVENT
DTSTART;TZID=America/Denver:20240703T113000
DTEND;TZID=America/Denver:20240703T123000
DTSTAMP:20260421T020725
CREATED:20240416T191938Z
LAST-MODIFIED:20240416T191938Z
UID:10000146-1720006200-1720009800@lpfcc.org
SUMMARY:Circle of Fathers
DESCRIPTION:Summer 2024 Schedule\n1st Wednesday of every month\nMeetings at La Plata Family Center \n495 Florida Rd
URL:https://lpfcc.org/event/circle-of-fathers/2024-07-03/
LOCATION:The La Plata Family Center\, 495 rd.\, Durango\, CO\, 81301\, United States
ORGANIZER;CN="Amber Turley":MAILTO:amber@lpfcc.org
END:VEVENT
BEGIN:VEVENT
DTSTART;TZID=America/Denver:20240703T113000
DTEND;TZID=America/Denver:20240703T123000
DTSTAMP:20260421T020725
CREATED:20240416T193310Z
LAST-MODIFIED:20240416T193310Z
UID:10000158-1720006200-1720009800@lpfcc.org
SUMMARY:Pond Farm Workday
DESCRIPTION:Pond Farm Workday \n 
URL:https://lpfcc.org/event/pond-farm-workday-2/2024-07-03/
LOCATION:Pond Farm\, 2997 CR 215\, Durango\, CO\, 81301
ORGANIZER;CN="Amber Turley":MAILTO:amber@lpfcc.org
END:VEVENT
BEGIN:VEVENT
DTSTART;VALUE=DATE:20240703
DTEND;VALUE=DATE:20240705
DTSTAMP:20260421T020725
CREATED:20240701T225800Z
LAST-MODIFIED:20240701T225800Z
UID:10000253-1720029600-1720115999@lpfcc.org
SUMMARY:La Plata Family Center Closure
DESCRIPTION:
URL:https://lpfcc.org/event/la-plata-family-center-closure/
LOCATION:CO
CATEGORIES:Closures
ORGANIZER;CN="Amber Turley":MAILTO:amber@lpfcc.org
END:VEVENT
END:VCALENDAR