BEGIN:VCALENDAR
VERSION:2.0
PRODID:-//LPFCC - ECPv6.15.20//NONSGML v1.0//EN
CALSCALE:GREGORIAN
METHOD:PUBLISH
X-ORIGINAL-URL:https://lpfcc.org
X-WR-CALDESC:Events for LPFCC
REFRESH-INTERVAL;VALUE=DURATION:PT1H
X-Robots-Tag:noindex
X-PUBLISHED-TTL:PT1H
BEGIN:VTIMEZONE
TZID:America/Denver
BEGIN:DAYLIGHT
TZOFFSETFROM:-0700
TZOFFSETTO:-0600
TZNAME:MDT
DTSTART:20230312T090000
END:DAYLIGHT
BEGIN:STANDARD
TZOFFSETFROM:-0600
TZOFFSETTO:-0700
TZNAME:MST
DTSTART:20231105T080000
END:STANDARD
BEGIN:DAYLIGHT
TZOFFSETFROM:-0700
TZOFFSETTO:-0600
TZNAME:MDT
DTSTART:20240310T090000
END:DAYLIGHT
BEGIN:STANDARD
TZOFFSETFROM:-0600
TZOFFSETTO:-0700
TZNAME:MST
DTSTART:20241103T080000
END:STANDARD
BEGIN:DAYLIGHT
TZOFFSETFROM:-0700
TZOFFSETTO:-0600
TZNAME:MDT
DTSTART:20250309T090000
END:DAYLIGHT
BEGIN:STANDARD
TZOFFSETFROM:-0600
TZOFFSETTO:-0700
TZNAME:MST
DTSTART:20251102T080000
END:STANDARD
END:VTIMEZONE
BEGIN:VEVENT
DTSTART;TZID=America/Denver:20240405T100000
DTEND;TZID=America/Denver:20240405T110000
DTSTAMP:20260419T075150
CREATED:20240416T192329Z
LAST-MODIFIED:20240416T201518Z
UID:10000148-1712311200-1712314800@lpfcc.org
SUMMARY:Free Journal Writing Workshop
DESCRIPTION:Free Journal Writing Workshop
URL:https://lpfcc.org/event/free-journal-writing-workshop/2024-04-05/
LOCATION:The La Plata Family Center\, 495 rd.\, Durango\, CO\, 81301\, United States
ORGANIZER;CN="Amber Turley":MAILTO:amber@lpfcc.org
END:VEVENT
END:VCALENDAR