BEGIN:VCALENDAR
VERSION:2.0
PRODID:-//LPFCC - ECPv6.15.20//NONSGML v1.0//EN
CALSCALE:GREGORIAN
METHOD:PUBLISH
X-ORIGINAL-URL:https://lpfcc.org
X-WR-CALDESC:Events for LPFCC
REFRESH-INTERVAL;VALUE=DURATION:PT1H
X-Robots-Tag:noindex
X-PUBLISHED-TTL:PT1H
BEGIN:VTIMEZONE
TZID:America/Denver
BEGIN:DAYLIGHT
TZOFFSETFROM:-0700
TZOFFSETTO:-0600
TZNAME:MDT
DTSTART:20220313T090000
END:DAYLIGHT
BEGIN:STANDARD
TZOFFSETFROM:-0600
TZOFFSETTO:-0700
TZNAME:MST
DTSTART:20221106T080000
END:STANDARD
BEGIN:DAYLIGHT
TZOFFSETFROM:-0700
TZOFFSETTO:-0600
TZNAME:MDT
DTSTART:20230312T090000
END:DAYLIGHT
BEGIN:STANDARD
TZOFFSETFROM:-0600
TZOFFSETTO:-0700
TZNAME:MST
DTSTART:20231105T080000
END:STANDARD
BEGIN:DAYLIGHT
TZOFFSETFROM:-0700
TZOFFSETTO:-0600
TZNAME:MDT
DTSTART:20240310T090000
END:DAYLIGHT
BEGIN:STANDARD
TZOFFSETFROM:-0600
TZOFFSETTO:-0700
TZNAME:MST
DTSTART:20241103T080000
END:STANDARD
END:VTIMEZONE
BEGIN:VEVENT
DTSTART;TZID=America/Denver:20230120T100000
DTEND;TZID=America/Denver:20230120T120000
DTSTAMP:20260421T085844
CREATED:20230104T023530Z
LAST-MODIFIED:20230104T045244Z
UID:10000033-1674208800-1674216000@lpfcc.org
SUMMARY:Reflect and Restore - FREE EVENT
DESCRIPTION:Let’s Rest\, Reflect and Vision Together! Dr. Mary Katherine\, Professional Psychologist and Judy Bierma\, Certified Yoga E-RYT 300Will guide you\, and support you toward a place of calm\, focus and clarity as you plan your year.\nWe will take time to gather inward\, calm the restless mind and return your body to it’s natural state of ease.\nThis nourishing evening offers a combination of Mental Health Training specifically aimed at restoring and maintaining calmness. Our training\ncompletes with a Restorative Yoga Practice. Appropriate for everyone REGISTRATION is required.\nPlease register online at the La Plata Family Center website LPFCC.ORG \n Register Now\n 
URL:https://lpfcc.org/event/reflect-and-restore-free-event/
LOCATION:The La Plata Family Center\, 495 rd.\, Durango\, CO\, 81301\, United States
CATEGORIES:Together We Grow
ATTACH;FMTTYPE=image/png:https://lpfcc.org/wp-content/uploads/2023/01/rr23.png
ORGANIZER;CN="Judy Bierma":MAILTO:judyoga@ymail.com
END:VEVENT
END:VCALENDAR