BEGIN:VCALENDAR
VERSION:2.0
PRODID:-//LPFCC - ECPv6.15.20//NONSGML v1.0//EN
CALSCALE:GREGORIAN
METHOD:PUBLISH
X-ORIGINAL-URL:https://lpfcc.org
X-WR-CALDESC:Events for LPFCC
REFRESH-INTERVAL;VALUE=DURATION:PT1H
X-Robots-Tag:noindex
X-PUBLISHED-TTL:PT1H
BEGIN:VTIMEZONE
TZID:America/Denver
BEGIN:DAYLIGHT
TZOFFSETFROM:-0700
TZOFFSETTO:-0600
TZNAME:MDT
DTSTART:20210314T090000
END:DAYLIGHT
BEGIN:STANDARD
TZOFFSETFROM:-0600
TZOFFSETTO:-0700
TZNAME:MST
DTSTART:20211107T080000
END:STANDARD
BEGIN:DAYLIGHT
TZOFFSETFROM:-0700
TZOFFSETTO:-0600
TZNAME:MDT
DTSTART:20220313T090000
END:DAYLIGHT
BEGIN:STANDARD
TZOFFSETFROM:-0600
TZOFFSETTO:-0700
TZNAME:MST
DTSTART:20221106T080000
END:STANDARD
BEGIN:DAYLIGHT
TZOFFSETFROM:-0700
TZOFFSETTO:-0600
TZNAME:MDT
DTSTART:20230312T090000
END:DAYLIGHT
BEGIN:STANDARD
TZOFFSETFROM:-0600
TZOFFSETTO:-0700
TZNAME:MST
DTSTART:20231105T080000
END:STANDARD
END:VTIMEZONE
BEGIN:VEVENT
DTSTART;TZID=America/Denver:20220308T090000
DTEND;TZID=America/Denver:20220308T101500
DTSTAMP:20260421T074220
CREATED:20220217T014500Z
LAST-MODIFIED:20220217T014500Z
UID:10000026-1646730000-1646734500@lpfcc.org
SUMMARY:Mindful Parenting
DESCRIPTION:Mindful Parenting \n\nHow do we handle the challenges of being a parent?\nParent with less frustration and more joy!\nThe demands of parenting can create high stress.\nWe will begin this session with practices to help reflect on\nhabits and behaviors without judgment.\nOur Yoga session today will help us to\nGet still\, Pause\, Observe and Respond.\nWe can all use more wisdom in helping ourselves and our\nnext generation. \n  \nWELCOME to\nTogether we Grow  \nTUESDAYS at SUMMIT CHURCH\n4pm-5:15pm\nIn a caring\, nurturing environment these wellness classes are\ndesigned to help you thrive in body\, mind and spirit.\nAll sessions are taught by Mary Katherine and Judy and we will\nguide you on how to reach your health and wellness goals.\nEach class will include Breathwork\, Movement\, and\nsmall group guidance to work through shared challenges.\nALL are WELCOME Classes are suitable for ALL AGES\nAccessible YOGA and MOVEMENT for ALL\nEach class you attend you can enter a giveaway for a chance to\nwin a great wellness gift.\nGifts include books\, yoga gear\, and self care items.\nTogether We Grow in spreading\nHealth\, and Happiness in the world \n 
URL:https://lpfcc.org/event/mindful-parenting/
LOCATION:Summit Church\, Address: 2917 Aspen Dr.\, Durango\, CO\, 81301\, United States
CATEGORIES:Together We Grow,Yoga
ATTACH;FMTTYPE=image/jpeg:https://lpfcc.org/wp-content/uploads/2022/02/mother-g977a5deb8_1920.jpg
ORGANIZER;CN="Judy Bierma":MAILTO:judyoga@ymail.com
END:VEVENT
END:VCALENDAR